BEGIN:VCALENDAR
VERSION:2.0
PRODID:-//ESSE Musicbar Winterthur//NONSGML kigkonsult.se iCalcreator 2.41.92//
CALSCALE:GREGORIAN
METHOD:PUBLISH
UID:38373436-3135-4231-a362-323031656539
X-WR-CALNAME:iCagenda
X-WR-CALDESC:Event Management Extension for Joomla!
X-WR-RELCALID:3E26604A-50F4-4449-8B3E-E4F4932D05B5
X-WR-TIMEZONE:Europe/Zurich
BEGIN:VTIMEZONE
TZID:Europe/Zurich
TZUNTIL:20230326T010000Z
BEGIN:STANDARD
TZNAME:CET
DTSTART:20201025T030000
TZOFFSETFROM:+0200
TZOFFSETTO:+0100
RDATE:20211031T030000
RDATE:20221030T030000
END:STANDARD
BEGIN:DAYLIGHT
TZNAME:CEST
DTSTART:20210328T020000
TZOFFSETFROM:+0100
TZOFFSETTO:+0200
RDATE:20220327T020000
END:DAYLIGHT
END:VTIMEZONE
BEGIN:VEVENT
UID:30363731-6332-4664-b764-643363326636
DTSTAMP:20260423T101844Z
CATEGORIES:Jazz
CLASS:PUBLIC
DESCRIPTION;ALTREP="CID:<FFFF__=0ABBE548DFE235B58f9e8a93d@coffeebean.com>":
 GRAMMY Award® Gewinner Linus Wyrsch aus Küssnacht am Rigi lebt seit mehr a
 ls einem Jahrzehnt in New York City\, wo er zu den gefragtesten Klarinetti
 sten und Saxofonisten gehört. Der Berklee College of Music Absolvent arbei
 tet häufig mit Lucy Kalantari &amp\; The Jazz Cats (GRAMMY Award® Gewinner
 : Bestes Kinderalbum\, 2018)\, der legendären Pizzarelli-Familie und mit v
 ielen anderen bekannten Künstlern der Jazz und Latin-Jazz Szene. Er tourt 
 durch die Welt und moderiert seit 2009 seinen eigenen Podcast 'The Jazz Ho
 le' auf BTRtoday.com.\nSein «Linus NYC Quartet with Gizem Gokoglu» besteht
  aus einer multikulturellen Besetzung mit der preisgekrönten Komponistin u
 nd Sängerin Gizem Gokoglu (Türkei &amp\; Nordzypern) an vorderster Front\,
  sowie dem Weltklasse-Akkordeonisten Dallas Vietty (Kalifornien) und selbs
 tverständlich mit Linus' Vater Urs Wyrsch am Bass. Während Vater und Sohn 
 häufig zusammen in Europa auftreten (dieses Quartett absolvierte Ende Augu
 st 2019 eine erfolgreiche Schweiz-Tournee)\, kam es im November 2019 beim 
 Schweizer Botschafter zur NYC-Premiere dieser exakten Formation.\nMit über
 zeugender Leidenschaft präsentiert das Ensemble ein abwechslungsreiches Pr
 ogramm aus beliebten amerikanischen und europäischen Standards\, raffinier
 ten Eigenkompositionen und swingenden Improvisationen.\nGizem Gokoglu (voc
 )\, Linus Wyrsch (cl\, ts)\, Dallas Vietty (acc)\, Urs Wyrsch (b)\nhttps:/
 /www.linusmusic.com
DTSTART:20210914T181500Z
DTEND:20210914T181500Z
GEO:00;0
LOCATION:
ORGANIZER:
SEQUENCE:1
SUMMARY:Linus NYC Quartet with Gizem Gokoglu
TRANSP:OPAQUE
URL:https://www.esse.bar/index.php/veranstaltungen/vergangene-veranstaltung
 en/1439-linus-nyc-quartet-with-gizem-gokoglu/2021-09-14-20-15
END:VEVENT
END:VCALENDAR
