BEGIN:VCALENDAR
VERSION:2.0
PRODID:-//ESSE Musicbar Winterthur//NONSGML kigkonsult.se iCalcreator 2.41.92//
CALSCALE:GREGORIAN
METHOD:PUBLISH
UID:64363230-3035-4636-b634-643565633631
X-WR-CALNAME:iCagenda
X-WR-CALDESC:Event Management Extension for Joomla!
X-WR-RELCALID:3E26604A-50F4-4449-8B3E-E4F4932D05B5
X-WR-TIMEZONE:Europe/Zurich
BEGIN:VTIMEZONE
TZID:Europe/Zurich
TZUNTIL:20231029T010000Z
BEGIN:STANDARD
TZNAME:CET
DTSTART:20201025T030000
TZOFFSETFROM:+0200
TZOFFSETTO:+0100
RDATE:20211031T030000
RDATE:20221030T030000
END:STANDARD
BEGIN:DAYLIGHT
TZNAME:CEST
DTSTART:20210328T020000
TZOFFSETFROM:+0100
TZOFFSETTO:+0200
RDATE:20220327T020000
RDATE:20230326T020000
END:DAYLIGHT
END:VTIMEZONE
BEGIN:VEVENT
UID:33666364-3635-4363-b730-636561616435
DTSTAMP:20260423T114644Z
CATEGORIES:Blues
CLASS:PUBLIC
DESCRIPTION;ALTREP="CID:<FFFF__=0ABBE548DFE235B58f9e8a93d@coffeebean.com>":
 Smokin‘ deep BLUES – from the heart\nMartin Baschung ist mit Leib und Seel
 e Blues-Musiker und seit bald 20 Jahren mit seiner Band «Big B Tonic» im I
 n- und Ausland unterwegs. Der Bluesman aus dem Aargauer Limmattal ist beka
 nnt für gefühlvolle Interpretationen und spannende Arrangements\, auf der 
 Bühne genauso wie auf seinen CDs.\nKaum jemand kann die Essenz des Blues a
 ufzeigen wie Martin Baschung. So zeigen seine Live-Shows\, wie abwechslung
 sreich und spannend Blues sein kann. Die Band interpretiert Eigenkompositi
 onen und Covers\, die die Handschrift des Bandleaders und seiner Crew trag
 en\, modern aber ohne die traditionellen Wurzeln zu leugnen. Ein Live-Prog
 ramm voller Intensität\, Spielfreude und die tiefe Verbundenheit zum Blues
  sind die Elemente\, welche die Konzerte Baschungs mit seiner Band so einz
 igartig machen.\nMartin Baschung (g\, voc)\, Hampi Vogt (harp)\, Jürg Amre
 in (b)\, Imad Barnieh (dr\, voc)\nhttps://www.martinbaschung.ch
DTSTART:20211017T173000Z
DTEND:20211017T173000Z
GEO:00;0
LOCATION:
ORGANIZER:
SEQUENCE:1
SUMMARY:Martin Baschung & Big B Tonic
TRANSP:OPAQUE
URL:https://www.esse.bar/index.php/veranstaltungen/vergangene-veranstaltung
 en/1440-martin-baschung-big-b-tonic/2021-10-17-19-30
END:VEVENT
END:VCALENDAR
