BEGIN:VCALENDAR
VERSION:2.0
PRODID:-//ESSE Musicbar Winterthur//NONSGML kigkonsult.se iCalcreator 2.41.92//
CALSCALE:GREGORIAN
METHOD:PUBLISH
UID:30623335-6133-4231-b338-363438643835
X-WR-CALNAME:iCagenda
X-WR-CALDESC:Event Management Extension for Joomla!
X-WR-RELCALID:3E26604A-50F4-4449-8B3E-E4F4932D05B5
X-WR-TIMEZONE:Europe/Zurich
BEGIN:VTIMEZONE
TZID:Europe/Zurich
TZUNTIL:20231029T010000Z
BEGIN:STANDARD
TZNAME:CET
DTSTART:20211031T030000
TZOFFSETFROM:+0200
TZOFFSETTO:+0100
RDATE:20221030T030000
END:STANDARD
BEGIN:DAYLIGHT
TZNAME:CEST
DTSTART:20210328T020000
TZOFFSETFROM:+0100
TZOFFSETTO:+0200
RDATE:20220327T020000
RDATE:20230326T020000
END:DAYLIGHT
END:VTIMEZONE
BEGIN:VEVENT
UID:66623464-3034-4139-b332-616337363666
DTSTAMP:20260423T114343Z
CATEGORIES:Jazz
CLASS:PUBLIC
DESCRIPTION;ALTREP="CID:<FFFF__=0ABBE548DFE235B58f9e8a93d@coffeebean.com>":
 Der Song geht weiter: Ben Zahler aus Sissach (BL) lotet mit seinem Projekt
  Songgoing neue Formen aus\, erkundet Klangwelten\, doch im Zentrum steht 
 immer der Song. Die kammermusikalische Besetzung mit Sängerin Isabelle Rit
 ter macht fragile Stimmungen möglich\, mit Iannis Obiols am Klavier und Il
 ya Alabuzhev am Bass ist aber sicher\, dass immer für Energie und Groove g
 esorgt ist.\n2018 ist das erste Album der Band «Quietly Cold» bei TCB Reco
 rds (The Montreux Jazz Label) erschienen\, der Titelsong 'Quietly Cold' wu
 rde vom Tagesanzeiger in die Liste der besten 100 Songs aufgenommen.\nDas 
 neue bemerkenswert eingespielte Rhythmus-Duo bildet die Basis des Quartett
 s: Der Pianist legt mit seinen Harmonien wunderbare Grundfarben und setzt 
 auch solistisch Akzente. Der Bassist swingt und groovt auf beste Scott-LaF
 aro-Art. Isabelle Ritters variationsfähige Stimme klingt hell\, keck und k
 indlich unbekümmert\, in allen Songs glaubwürdig und passt besonders exzel
 lent\, wo die Texte einen eigenwilligen Witz verraten. Ben Zahler liebt di
 e Flöte\, wie sie Eric Dolphy spielte\, und klingt doch eher wie Herbie Ma
 nn: frei von Schnörkeln und jeglicher Schummelei\, dynamisch\, sanft\, ohn
 e sich je verbiegen zu müssen\, selbst in virtuosen Passagen glasklar\, na
 chdrücklich\, eindeutig und bestimmt.\nCharles Mingus sagte einst\, dass K
 reativität darin besteht\, komplexe Dinge wunderbar einfach zu machen. Gen
 au dies versucht Ben Zahler mit seinen Songs umzusetzen: Starke Melodien m
 it dem gewissen Etwas\, die dennoch einfach gut klingen.\nIsabelle Ritter 
 (voc)\, Ben Zahler (fl\, comp)\, Iannis Obiols (p)\, Ilya Alabuzhev (b)\nh
 ttp://songgoing.benzahler.chhttps://isabelleritter.ch
DTSTART:20211029T181500Z
DTEND:20211029T181500Z
GEO:00;0
LOCATION:
ORGANIZER:
SEQUENCE:1
SUMMARY:Ben Zahler’s Songgoing
TRANSP:OPAQUE
URL:https://www.esse.bar/index.php/veranstaltungen/vergangene-veranstaltung
 en/1441-ben-zahler-s-songgoing/2021-10-29-20-15
END:VEVENT
END:VCALENDAR
