BEGIN:VCALENDAR
VERSION:2.0
PRODID:-//ESSE Musicbar Winterthur//NONSGML kigkonsult.se iCalcreator 2.41.92//
CALSCALE:GREGORIAN
METHOD:PUBLISH
UID:31346536-6361-4732-b133-633830383862
X-WR-CALNAME:iCagenda
X-WR-CALDESC:Event Management Extension for Joomla!
X-WR-RELCALID:3E26604A-50F4-4449-8B3E-E4F4932D05B5
X-WR-TIMEZONE:Europe/Zurich
BEGIN:VTIMEZONE
TZID:Europe/Zurich
TZUNTIL:20231029T010000Z
BEGIN:STANDARD
TZNAME:CET
DTSTART:20201025T030000
TZOFFSETFROM:+0200
TZOFFSETTO:+0100
RDATE:20211031T030000
RDATE:20221030T030000
END:STANDARD
BEGIN:DAYLIGHT
TZNAME:CEST
DTSTART:20210328T020000
TZOFFSETFROM:+0100
TZOFFSETTO:+0200
RDATE:20220327T020000
RDATE:20230326T020000
END:DAYLIGHT
END:VTIMEZONE
BEGIN:VEVENT
UID:36303366-3734-4161-a132-336539636138
DTSTAMP:20260423T113817Z
CATEGORIES:Folk & More
CLASS:PUBLIC
DESCRIPTION;ALTREP="CID:<FFFF__=0ABBE548DFE235B58f9e8a93d@coffeebean.com>":
 Die Sängerin Astrid Barth und der Gitarrist Philipp Roemer aus Köln haben 
 für ihre Musik gleich eine neue Schublade gezimmert: Das „Groove-Chanson“.
  Zu viele Takte für Blues\, zu wenig „sophisticated“ für Jazz\, zu grooven
 d für das Genre „Singer/Songwriter“ und zu deutschsprachig für Chanson.\nA
 uf dem Programm steht also Eigenes in deutscher Sprache\, gänsehaut-treibe
 nd und hitverdächtig. Die ebenso wort- wie stimmgewaltige Sängerin Astrid 
 Barth schreibt Texte\, die plausibel erscheinen ohne zu dozieren\, die tie
 f empfunden sind ohne dabei kitschig zu wirken. Sie wird niemals müde\, ih
 re Zuhörer zum Anderssein und Mitdenken zu motivieren und hält über einen 
 ganzen Abend hinweg jene seltene Spannung\, mit der man eine Bühne elektri
 sieren kann.\nDer studierte Jazzgitarrist Philipp Roemer ersetzt mit seine
 r Gitarre eine ganze Band und begleitet so Astrid Barth\, die von rockig b
 is zum glasklaren Pianissimo alle Facetten des Gesangs bietet.\nBei ihrem 
 Auftritt in der ESSE Musicbar erhalten die beiden Kölner für ihren Mix aus
  Blues\, Jazz und Chanson prominente Verstärkung. Der Winterthurer Walter 
 Baumgartner an der Bluesharp!\nAstrid Barth (voc\, comp)\, Philipp Roemer 
 (g\, voc\, arr)Special guest: Walter Baumgartner (harp)\nhttp://www.gesang
 undgitarre.de
DTSTART:20211014T181500Z
DTEND:20211014T181500Z
GEO:00;0
LOCATION:
ORGANIZER:
SEQUENCE:1
SUMMARY:barthroemer & baumgartner
TRANSP:OPAQUE
URL:https://www.esse.bar/index.php/veranstaltungen/vergangene-veranstaltung
 en/1442-barthroemer-baumgartner/2021-10-14-20-15
END:VEVENT
END:VCALENDAR
