BEGIN:VCALENDAR
VERSION:2.0
PRODID:-//ESSE Musicbar Winterthur//NONSGML kigkonsult.se iCalcreator 2.41.92//
CALSCALE:GREGORIAN
METHOD:PUBLISH
UID:65346532-6365-4439-b430-623033656538
X-WR-CALNAME:iCagenda
X-WR-CALDESC:Event Management Extension for Joomla!
X-WR-RELCALID:3E26604A-50F4-4449-8B3E-E4F4932D05B5
X-WR-TIMEZONE:Europe/Zurich
BEGIN:VTIMEZONE
TZID:Europe/Zurich
TZUNTIL:20231029T010000Z
BEGIN:STANDARD
TZNAME:CET
DTSTART:20201025T030000
TZOFFSETFROM:+0200
TZOFFSETTO:+0100
RDATE:20211031T030000
RDATE:20221030T030000
END:STANDARD
BEGIN:DAYLIGHT
TZNAME:CEST
DTSTART:20210328T020000
TZOFFSETFROM:+0100
TZOFFSETTO:+0200
RDATE:20220327T020000
RDATE:20230326T020000
END:DAYLIGHT
END:VTIMEZONE
BEGIN:VEVENT
UID:38336665-3131-4062-b933-656238643362
DTSTAMP:20260423T114215Z
CATEGORIES:Jazz
CLASS:PUBLIC
DESCRIPTION;ALTREP="CID:<FFFF__=0ABBE548DFE235B58f9e8a93d@coffeebean.com>":
 «Stringenz 432» ....tiefergestimmt – höhergenossen!\nTiefstapler - Minimal
 isten - niedere Kunst?\nMitnichten! Herbie Kopf und seine zahlreichen Musi
 kerkollegen zelebrieren in der neuen Serie «Stringenz 432» exquisite Gitar
 renmusik\, welche vom wärmeren und etwas dunkleren Timbre der um 10Hz tief
 ergestimmten Klampfen profitiert! (A=432Hz\, anstatt 442Hz!).\nDie einzeln
 en Instrumente des Trios scheinen da wie zu einem grossen homogenen Klangk
 örper zu verschmelzen\, und sowohl die Musiker untereinander\, wie auch di
 e Zuhörenden fühlen sich näher miteinander verbunden. Das wiederum fördert
  die Art des aufeinander Agierens und Reagierens (Interplay) sehr stark. 
 \n\nBUCHER - KOPF - BASCHNAGEL Trio\nGitarrist Michael Bucher\, Bassist He
 rbie Kopf und Drummer Pius Baschnagel muss man dem nationalen Jazzpublikum
  wohl nicht mehr vorstellen.\nIn diesem Trio vereinen und zelebrieren sie 
 die verschiedenen Elemente ihrer weitläufigen musikalischen Tätigkeiten: d
 ie Liebe zu den Stücken des 'Great American Songbook'\, geistreiches Inter
 play\, kreative melodische Improvisationen\, virtuoser Umgang mit ungerade
 n Metren... und alles immer mit viel Drive\, Swing und Groove vorgetragen.
DTSTART:20211007T181500Z
DTEND:20211007T181500Z
GEO:00;0
LOCATION:
ORGANIZER:
SEQUENCE:1
SUMMARY:Herbie Kopf «Stringenz 432» #3 | Bucher - Kopf - Baschnagel
TRANSP:OPAQUE
URL:https://www.esse.bar/index.php/veranstaltungen/vergangene-veranstaltung
 en/1443-herbie-kopf-stringenz-432-2-stoffner-kopf-wettstein-trio/2021-10-0
 7-20-15
END:VEVENT
END:VCALENDAR
