BEGIN:VCALENDAR
VERSION:2.0
PRODID:-//ESSE Musicbar Winterthur//NONSGML kigkonsult.se iCalcreator 2.41.92//
CALSCALE:GREGORIAN
METHOD:PUBLISH
UID:35613332-6264-4839-a361-656130663162
X-WR-CALNAME:iCagenda
X-WR-CALDESC:Event Management Extension for Joomla!
X-WR-RELCALID:3E26604A-50F4-4449-8B3E-E4F4932D05B5
X-WR-TIMEZONE:Europe/Zurich
BEGIN:VTIMEZONE
TZID:Europe/Zurich
TZUNTIL:20231029T010000Z
BEGIN:STANDARD
TZNAME:CET
DTSTART:20201025T030000
TZOFFSETFROM:+0200
TZOFFSETTO:+0100
RDATE:20211031T030000
RDATE:20221030T030000
END:STANDARD
BEGIN:DAYLIGHT
TZNAME:CEST
DTSTART:20210328T020000
TZOFFSETFROM:+0100
TZOFFSETTO:+0200
RDATE:20220327T020000
RDATE:20230326T020000
END:DAYLIGHT
END:VTIMEZONE
BEGIN:VEVENT
UID:61323163-6438-4039-b732-313761626239
DTSTAMP:20260423T113953Z
CATEGORIES:Jazz
CLASS:PUBLIC
DESCRIPTION;ALTREP="CID:<FFFF__=0ABBE548DFE235B58f9e8a93d@coffeebean.com>":
 Adina Friis ist Jazzpianistin\, Sängerin\, Songwriterin und Komponistin fü
 r Film und Theater. Sie hat in Luzern\, Zürich und Kopenhagen Jazzklavier\
 , Gesang und Komposition studiert. Von ihr stammt die Musik zu Rolf Lyssys
  aktuellem Film «Eden für Jeden»\, eine Famlienkomödie in der ihre Schwest
 er Steffi die Hauptrolle spielt. Adinas musikalisches Hauptprojekt ist das
  Jazztrio «Luumu».\nZu diesem Trio gehören Simon Iten am Kontrabass und An
 dy Schelker am Schlagzeug. Die drei Musiker haben sich im Umkreis der Luze
 rner Jazzschulszene kennengelernt und teilen eine ähnliche Vorstellung von
  musikalischer Ästhetik. Die Lieder werden von Adina geschrieben\, jedoch 
 tüfteln sie jeweils zu dritt an der Musik herum und alle Musiker bringen i
 ndividuelle Einflüsse aus den verschiedensten Stilarten mit rein\, so dass
  eine unike Klangwelt entstehen kann.\nAuf diese Weise erschaffen die Drei
  mit «Luumu» eine ganz eigene Welt von Klang. Die Kompositionen befinden s
 ich auf der Grenze von Jazz und Folk Noir mit Elementen aus Weltmusik alle
 r Art\, zeitgenössischem Skandinavischem Pop und Filmmusikalischen Element
 en. Mit sowohl komponierten als auch teilweise improvisierten Instrumental
 teilen.\nDas Trio besteht in dieser Formation seit 2012 und hat bereits üb
 er hundert Konzerte im In-und Ausland gespielt\, u.a. am Copenhagen Jazzfe
 stival (DK)\, am Blue Balls Festival/Luzern in der KKL Seebar (CH)\, Copen
 hagen Jazzhouse (DK)\, im Porgy &amp\; Bess in Wien (AT) sowie an zahlreic
 hen Orten in der Schweiz.\nAdina Friies (p\, voc\, comp)\, Simon Iten (db)
 \, Andy Schelker (dr)\nhttps://www.luumu.chhttps://adinafriis.com
DTSTART:20211022T181500Z
DTEND:20211022T181500Z
GEO:00;0
LOCATION:
ORGANIZER:
SEQUENCE:1
SUMMARY:Luumu
TRANSP:OPAQUE
URL:https://www.esse.bar/index.php/veranstaltungen/vergangene-veranstaltung
 en/1444-luumu/2021-10-22-20-15
END:VEVENT
END:VCALENDAR
