BEGIN:VCALENDAR
VERSION:2.0
PRODID:-//ESSE Musicbar Winterthur//NONSGML kigkonsult.se iCalcreator 2.41.92//
CALSCALE:GREGORIAN
METHOD:PUBLISH
UID:64343336-6130-4939-a363-353130366566
X-WR-CALNAME:iCagenda
X-WR-CALDESC:Event Management Extension for Joomla!
X-WR-RELCALID:3E26604A-50F4-4449-8B3E-E4F4932D05B5
X-WR-TIMEZONE:Europe/Zurich
BEGIN:VTIMEZONE
TZID:Europe/Zurich
TZUNTIL:20231029T010000Z
BEGIN:STANDARD
TZNAME:CET
DTSTART:20211031T030000
TZOFFSETFROM:+0200
TZOFFSETTO:+0100
RDATE:20221030T030000
END:STANDARD
BEGIN:DAYLIGHT
TZNAME:CEST
DTSTART:20210328T020000
TZOFFSETFROM:+0100
TZOFFSETTO:+0200
RDATE:20220327T020000
RDATE:20230326T020000
END:DAYLIGHT
END:VTIMEZONE
BEGIN:VEVENT
UID:61626364-3730-4337-a231-316538663265
DTSTAMP:20260423T114413Z
CATEGORIES:Jazz
CLASS:PUBLIC
DESCRIPTION;ALTREP="CID:<FFFF__=0ABBE548DFE235B58f9e8a93d@coffeebean.com>":
 Der Name «Voice meets Piano verrät bereits das Wichtigste: Es geht um die 
 Sängerin Kristina Tajsic aus Aarau und den Pianisten Christoph Hegi aus Ba
 den\, die sich seit bald zwanzig Jahren gemeinsam der Leidenschaft des Jaz
 z hingeben. Zu ihrem Repertoire gehören Evergreens aus den 40er-\, 50er- u
 nd 60er-Jahren. Und damit beispielsweise um Songs – einst von Doris Day\, 
 Ella Fitzgerald und Marilyn Monroe gesungen – die nie mehr vergessen gehen
 .\nAuf der Bühne verkörpert die Sängerin Kristina Tajsic einen bereits ver
 loren geglaubten Mythos - den Mythos\, der Lady of Swing\, der 'femme fata
 l'. Jenen Damen der 40er und 50er Jahre\, die den Männern mit ihrem verzau
 bernden Gesang und ihrer grazilen Art reihenweise den Kopf verdrehten. Ihr
 e Stimme mit dem warmen Timbre und dem passenden Vibrato versetzt das Publ
 ikum in eine vergangene Zeit voller Romantik. In eine Zeit\, in der es noc
 h üblich war\, den Damen die Tür aufzuhalten.\nChristoph Hegi ist ein virt
 uoser Jazzer und wirkt solo als auch als einfühlsamer Begleiter an den Tas
 ten. Sein einfühlsames Spiel untermalt Kristinas Gesang auf gekonnte Weise
 \, holt in den Soli aus - ohne jedoch den Zauber der Stimmung zu zerstören
  - und findet in harmonischem Bogen mit Leichtigkeit zurück.\nFür ihr Konz
 ert mit Swing-Klassikern und Melodien aus dem Great American Songbook habe
 n die beiden den Saxophonisten Jonas Knecht eingeladen\, der den Sound mit
  seinem Spiel perfekt ergänzt. Ein Hauch Broadway und Hollywood wird durch
  die ESSE wehen.\nKristina Tajsic (voc)\, Christoph Hegi (p)\, Jonas Knech
 t (s)\nhttp://www.voicemeetspiano.com
DTSTART:20211028T181500Z
DTEND:20211028T181500Z
GEO:00;0
LOCATION:
ORGANIZER:
SEQUENCE:1
SUMMARY:Voice meets Piano and Sax
TRANSP:OPAQUE
URL:https://www.esse.bar/index.php/veranstaltungen/vergangene-veranstaltung
 en/1445-voice-meets-piano-sax/2021-10-28-20-15
END:VEVENT
END:VCALENDAR
