BEGIN:VCALENDAR
VERSION:2.0
PRODID:-//ESSE Musicbar Winterthur//NONSGML kigkonsult.se iCalcreator 2.41.92//
CALSCALE:GREGORIAN
METHOD:PUBLISH
UID:66336335-6431-4733-b363-663736326232
X-WR-CALNAME:iCagenda
X-WR-CALDESC:Event Management Extension for Joomla!
X-WR-RELCALID:3E26604A-50F4-4449-8B3E-E4F4932D05B5
X-WR-TIMEZONE:Europe/Zurich
BEGIN:VTIMEZONE
TZID:Europe/Zurich
TZUNTIL:20230326T010000Z
BEGIN:STANDARD
TZNAME:CET
DTSTART:20201025T030000
TZOFFSETFROM:+0200
TZOFFSETTO:+0100
RDATE:20211031T030000
RDATE:20221030T030000
END:STANDARD
BEGIN:DAYLIGHT
TZNAME:CEST
DTSTART:20210328T020000
TZOFFSETFROM:+0100
TZOFFSETTO:+0200
RDATE:20220327T020000
END:DAYLIGHT
END:VTIMEZONE
BEGIN:VEVENT
UID:65393830-6561-4537-b961-363133323833
DTSTAMP:20260423T101956Z
CATEGORIES:Folk & More
CLASS:PUBLIC
DESCRIPTION;ALTREP="CID:<FFFF__=0ABBE548DFE235B58f9e8a93d@coffeebean.com>":
 Geboren in Osnabrück\, studierte Wilfried Hesse Violoncello in Bremen an d
 er Hochschule für Kunst und Musik. Seine umfangreiche Unterrichtstätigkeit
  im norddeutschen Raum umfasste auch die Leitung einer Musikschule in Hamb
 urg\, und seit 2008 ist er Cello-Lehrer in Winterthur an der Musikschule P
 rova.\nMit „Esther und Edna Bejarano und Coincidence“ spielte er viele Kon
 zerte mit einem Programm aus antifaschistischen Liedern. Seit 1986 ist er 
 Mitglied im „Ersten Improvisierenden Streichorchester“. 2010 gründete er m
 it «CelloFon» seine eigene Band\, zunächst als Cello-Trio\, nach verschied
 enen Umbesetzungen spielt «CelloFon» heute als Quartett.\nSein erstes Solo
 -Programm nimmt uns mit auf eine Reise in die verschiedensten musikalische
 n Richtungen. Die Spannweite reicht von der kammermusikalischen Feinheit d
 er Klassik\, über Folklore\, Pop\, Jazz und wieder zurück. Selbst eine Pri
 se Country gibt es zu hören oder eine Interpretation des berühmten Abendli
 edes («Der Mond ist aufgegangen»)\, ein Klassiker der Literatur\, 1779 urs
 prünglich als Gedicht von Matthias Claudius herausgegeben.\nWilfried Hesse
  erkundet mit seinem Cello ein mit diesem Instrument nach wie vor selten b
 espieltes Terrain ausserhalb der klassischen Musik. Und regt dabei mit mit
 reissenden Rhythmen und klugen Worten nicht nur zum Lauschen an.\nWilfried
  Hesse (Cello und Gesang)\nhttps://www.cellofon.ch
DTSTART:20210919T173000Z
DTEND:20210919T173000Z
GEO:00;0
LOCATION:
ORGANIZER:
SEQUENCE:1
SUMMARY:Wilfried Hesse – «Blues – Bach – Cello»
TRANSP:OPAQUE
URL:https://www.esse.bar/index.php/veranstaltungen/vergangene-veranstaltung
 en/1446-wilfried-hesse-blues-bach-cello/2021-09-19-19-30
END:VEVENT
END:VCALENDAR
