BEGIN:VCALENDAR
VERSION:2.0
PRODID:-//ESSE Musicbar Winterthur//NONSGML kigkonsult.se iCalcreator 2.41.92//
CALSCALE:GREGORIAN
METHOD:PUBLISH
UID:65656634-3937-4037-b138-636366343836
X-WR-CALNAME:iCagenda
X-WR-CALDESC:Event Management Extension for Joomla!
X-WR-RELCALID:3E26604A-50F4-4449-8B3E-E4F4932D05B5
X-WR-TIMEZONE:Europe/Zurich
BEGIN:VTIMEZONE
TZID:Europe/Zurich
TZUNTIL:20231029T010000Z
BEGIN:STANDARD
TZNAME:CET
DTSTART:20211031T030000
TZOFFSETFROM:+0200
TZOFFSETTO:+0100
RDATE:20221030T030000
END:STANDARD
BEGIN:DAYLIGHT
TZNAME:CEST
DTSTART:20210328T020000
TZOFFSETFROM:+0100
TZOFFSETTO:+0200
RDATE:20220327T020000
RDATE:20230326T020000
END:DAYLIGHT
END:VTIMEZONE
BEGIN:VEVENT
UID:30396438-3365-4766-a264-653939343462
DTSTAMP:20260423T114137Z
CATEGORIES:Folk & More
CLASS:PUBLIC
DESCRIPTION;ALTREP="CID:<FFFF__=0ABBE548DFE235B58f9e8a93d@coffeebean.com>":
 Fusion-Jazz und Pop vom Feinsten «Kühles Moos»\, fünf gestandene Instrumen
 talisten und ein junger Sänger\, bringen euch ausgeprägt melodiöse\, perfe
 kt gereifte Fusion- und Pop-Musik in die gute Stube. Dabei bedient sich «K
 ühles Moos» bei stilistischen Köstlichkeiten aus Jazz\, Rock\, Blues und F
 unk\, welche jeder Musiker individuell auskosten darf.\nAngetrieben von ei
 ner unwiderstehlichen Groove-Maschinerie\, kontrastieren sich abwechslungs
 reiche Arrangements mit eingängigen Melodiebögen\, sphärischen Klang- und 
 Rhythmusteppichen und stimmungsvollen Improvisationen. Ein musikalischer O
 hrenschmaus\, dynamisch und geschmackvoll angerichtet\, für den es sich lo
 hnt\, mehr als ein Ohr voll zu nehmen.\nFabio Lunardi (voc)\, Ricci Lunard
 i (ts\, as)\, Pierre Kübler (keyb)\, Otto Zingg (g)\, Peter Gut (b)\, Enzo
  Lopardo (dr)
DTSTART:20211120T191500Z
DTEND:20211120T191500Z
GEO:00;0
LOCATION:
ORGANIZER:
SEQUENCE:1
SUMMARY:Kühles Moos
TRANSP:OPAQUE
URL:https://www.esse.bar/index.php/veranstaltungen/vergangene-veranstaltung
 en/1449-konzert-kuehles-moos/2021-11-20-20-15
END:VEVENT
END:VCALENDAR
