BEGIN:VCALENDAR
VERSION:2.0
PRODID:-//ESSE Musicbar Winterthur//NONSGML kigkonsult.se iCalcreator 2.41.92//
CALSCALE:GREGORIAN
METHOD:PUBLISH
UID:33336537-3030-4632-b762-393038626631
X-WR-CALNAME:iCagenda
X-WR-CALDESC:Event Management Extension for Joomla!
X-WR-RELCALID:3E26604A-50F4-4449-8B3E-E4F4932D05B5
X-WR-TIMEZONE:Europe/Zurich
BEGIN:VTIMEZONE
TZID:Europe/Zurich
TZUNTIL:20231029T010000Z
BEGIN:STANDARD
TZNAME:CET
DTSTART:20211031T030000
TZOFFSETFROM:+0200
TZOFFSETTO:+0100
RDATE:20221030T030000
END:STANDARD
BEGIN:DAYLIGHT
TZNAME:CEST
DTSTART:20210328T020000
TZOFFSETFROM:+0100
TZOFFSETTO:+0200
RDATE:20220327T020000
RDATE:20230326T020000
END:DAYLIGHT
END:VTIMEZONE
BEGIN:VEVENT
UID:61343839-3031-4539-b436-373439383733
DTSTAMP:20260423T114501Z
CATEGORIES:Blues
CLASS:PUBLIC
DESCRIPTION;ALTREP="CID:<FFFF__=0ABBE548DFE235B58f9e8a93d@coffeebean.com>":
 «Charged with the Blues» - der Name der aktuellen CD ist Programm. Leidens
 chaftlicher Blues rund um den Sänger und Gitarristen Pat Lämmle\, präsenti
 ert mit viel Spielfreude\, reicher Erfahrung und technischer Fertigkeit.\n
 Das Quartett begeistert mit vielen Eigenkompositionen\, die sich (auch) ak
 tuellen Themen widmen\, so etwa der im letzten Frühjahr entstandene Corona
 -Blues «The Virus Song».\nEhrlich\, echt und ohne Schnörkel klingt der Blu
 es von der Bühne- direkt aus dem Leben. Eine aussergewöhnliche Band\, die 
 mit ihren CDs «Bluesman – for my friends» und «Charged with the Blues» dir
 ekt ins Herz trifft und noch lange nachhallt.An diesem Abend gibt es zudem
  neue Songs zu hören. Das dritte Album ist in der Pipeline und wird «Priso
 ner Of The Blues» heissen.\nPat Lämmle (voc\, g\, comp)\, Christian Roffle
 r (keyb)\, Billy Wirz (b)\, Hani Ali (dr)\nhttps://www.blueschargers.com
DTSTART:20211031T183000Z
DTEND:20211031T183000Z
GEO:00;0
LOCATION:
ORGANIZER:
SEQUENCE:1
SUMMARY:Pat & The BLUESchargers
TRANSP:OPAQUE
URL:https://www.esse.bar/index.php/veranstaltungen/vergangene-veranstaltung
 en/1452-pat-the-blueschargers/2021-10-31-19-30
END:VEVENT
END:VCALENDAR
