BEGIN:VCALENDAR
VERSION:2.0
PRODID:-//ESSE Musicbar Winterthur//NONSGML kigkonsult.se iCalcreator 2.41.92//
CALSCALE:GREGORIAN
METHOD:PUBLISH
UID:66306636-3232-4635-a562-353739383139
X-WR-CALNAME:iCagenda
X-WR-CALDESC:Event Management Extension for Joomla!
X-WR-RELCALID:3E26604A-50F4-4449-8B3E-E4F4932D05B5
X-WR-TIMEZONE:Europe/Zurich
BEGIN:VTIMEZONE
TZID:Europe/Zurich
TZUNTIL:20230326T010000Z
BEGIN:STANDARD
TZNAME:CET
DTSTART:20201025T030000
TZOFFSETFROM:+0200
TZOFFSETTO:+0100
RDATE:20211031T030000
RDATE:20221030T030000
END:STANDARD
BEGIN:DAYLIGHT
TZNAME:CEST
DTSTART:20210328T020000
TZOFFSETFROM:+0100
TZOFFSETTO:+0200
RDATE:20220327T020000
END:DAYLIGHT
END:VTIMEZONE
BEGIN:VEVENT
UID:36613639-3962-4766-b636-396364353831
DTSTAMP:20260423T101918Z
CATEGORIES:Folk & More
CLASS:PUBLIC
DESCRIPTION;ALTREP="CID:<FFFF__=0ABBE548DFE235B58f9e8a93d@coffeebean.com>":
 «SanySaidap» laden ein zu einer akustischen Reise von Irland via Frankreic
 h nach Amerika und zurück.\nEigentlich wäre ja heute Roli Frei am Start\; 
 aus gesundheitlichen Gründen musste er seinen Auftritt leider kurzfristig 
 absagen. (Der neue Termin ist auf Sonntag\, 05. Dezember 2021 verschoben).
  Wir freuen uns sehr\, dass nun «SanySaidap» die entstandene Lücke mehr al
 s nur füllen. Das Folk-Quartett hat mit seinem Folk’n’Roll in der ESSE ja 
 bereits mehrmals für Begeisterung gesorgt.\n«SanySaidap» sind vier Stimmen
  untermalt mit Fiddle\, Mandoline\, Gitarre\, Akkordeon und Kontrabass. Vo
 n Irish-Folk über Country und Bluegrass bis hin zu amerikanischen Roots-Ei
 nflüssen wie Old-Time und Cajun – «SanySaidap» nehmen von allem ein wenig\
 , reichern die Mischung mit bluesigen\, swingenden Noten an\, graben altbe
 kannte Klassiker aus oder zaubern ihre ganz eigenen Folk-Melodien hervor.
 \nDas vielseitige Repertoire mit wirbelnden Instrumentals und mitreissende
 n Gesängen versprüht pure Lebensfreude. Die unbändige Spielfreude hat die 
 Band zum Markenzeichen gemacht und zelebriert damit auf der Bühne ihre Beg
 eisterung für authentischen\, berührenden und wilden Folk.\nTobi Rechstein
 er (Guitar\, Mandolin\, Banjo\, Vocals)\, Alice Uehlinger (Fiddle\, Vocals
 )\, Pasco Schwarb (Accordion\, Vocals)\, Sime Erhard (Kontrabass\, Vocals)
 \nwww.sanysaidap.ch
DTSTART:20210905T173000Z
DTEND:20210905T173000Z
GEO:00;0
LOCATION:
ORGANIZER:
SEQUENCE:1
SUMMARY:SanySaidap – «Folk’n’Roll»
TRANSP:OPAQUE
URL:https://www.esse.bar/index.php/veranstaltungen/vergangene-veranstaltung
 en/1454-sanysaidap-folk-n-roll/2021-09-05-19-30
END:VEVENT
END:VCALENDAR
