BEGIN:VCALENDAR
VERSION:2.0
PRODID:-//ESSE Musicbar Winterthur//NONSGML kigkonsult.se iCalcreator 2.41.92//
CALSCALE:GREGORIAN
METHOD:PUBLISH
UID:63613163-6663-4436-a132-616336643938
X-WR-CALNAME:iCagenda
X-WR-CALDESC:Event Management Extension for Joomla!
X-WR-RELCALID:3E26604A-50F4-4449-8B3E-E4F4932D05B5
X-WR-TIMEZONE:Europe/Zurich
BEGIN:VTIMEZONE
TZID:Europe/Zurich
TZUNTIL:20231029T010000Z
BEGIN:STANDARD
TZNAME:CET
DTSTART:20211031T030000
TZOFFSETFROM:+0200
TZOFFSETTO:+0100
RDATE:20221030T030000
END:STANDARD
BEGIN:DAYLIGHT
TZNAME:CEST
DTSTART:20210328T020000
TZOFFSETFROM:+0100
TZOFFSETTO:+0200
RDATE:20220327T020000
RDATE:20230326T020000
END:DAYLIGHT
END:VTIMEZONE
BEGIN:VEVENT
UID:62356139-6536-4638-b964-623436323536
DTSTAMP:20260423T114343Z
CATEGORIES:Jazz
CLASS:PUBLIC
DESCRIPTION;ALTREP="CID:<FFFF__=0ABBE548DFE235B58f9e8a93d@coffeebean.com>":
 Manfred Junker und Dani Solimine spielen seit mittlerweile über zehn Jahre
 n zusammen\, zuerst im Quartett «A Touch of Swing»\, die letzten Jahre abe
 r immer mehr im Duo. Die Stärken der beiden Gitarristen - Manfred Junker m
 ehr als Solist\, Dani Solimine als kompetenter Begleiter\, der das Duo mit
  seiner siebensaitigen Gitarre oft wie ein Trio klingen lässt - werden in 
 ihren Arrangements voll ausgespielt und zaubern für das Publikum ein abwec
 hslungsreiches\, immer swingendes Konzerterlebnis.\nFür das Programm der n
 euen CD «Guitarists Only» hat das Duo Stücke von Gitarristen ausgewählt un
 d bearbeitet\, die trotz eines weiten Bogens von Django Reinhardt über Wes
  Montgomery bis zu Pat Metheny einen homogenen Sound zulassen\, dabei aber
  alles bieten\, was Jazzgitarre so schön macht: Swing\, Latin\, Blues\, Ba
 lladen &amp\; Groovestücke.\nManfred Junker hat sich nach seinem Studium a
 n der Jazzschule St.Gallen und am Berklee College in mehr als 25 Jahren du
 rch viele Konzerte von Solo bis Quartettbesetzung und 14 eigene CDs einen 
 Namen gemacht. Dani Solimine lässt mit seinen Arrangements und seiner Begl
 eitarbeit auf der 7-saitigen Gitarre jedes Ensemble grösser klingen. Als A
 utodidakt gründete er mit elf Jahren seine erste Band und ist seit 2001 al
 s Berufsmusiker auf vielen CDs und in unzähligen Bands zu hören.\nManfred 
 Junker (g)\, Dani Solimine (g)\nwww.manfredjunker.com
DTSTART:20211104T191500Z
DTEND:20211104T191500Z
GEO:00;0
LOCATION:
ORGANIZER:
SEQUENCE:1
SUMMARY:Manfred Junker / Dani Solimine – «Guitarists Only»
TRANSP:OPAQUE
URL:https://www.esse.bar/index.php/veranstaltungen/vergangene-veranstaltung
 en/1455-manfred-junker-dani-solimine-guitarists-only/2021-11-04-20-15
END:VEVENT
END:VCALENDAR
