BEGIN:VCALENDAR
VERSION:2.0
PRODID:-//ESSE Musicbar Winterthur//NONSGML kigkonsult.se iCalcreator 2.41.92//
CALSCALE:GREGORIAN
METHOD:PUBLISH
UID:39383539-3330-4531-a438-313861356633
X-WR-CALNAME:iCagenda
X-WR-CALDESC:Event Management Extension for Joomla!
X-WR-RELCALID:3E26604A-50F4-4449-8B3E-E4F4932D05B5
X-WR-TIMEZONE:Europe/Zurich
BEGIN:VTIMEZONE
TZID:Europe/Zurich
TZUNTIL:20230326T010000Z
BEGIN:STANDARD
TZNAME:CET
DTSTART:20201025T030000
TZOFFSETFROM:+0200
TZOFFSETTO:+0100
RDATE:20211031T030000
RDATE:20221030T030000
END:STANDARD
BEGIN:DAYLIGHT
TZNAME:CEST
DTSTART:20210328T020000
TZOFFSETFROM:+0100
TZOFFSETTO:+0200
RDATE:20220327T020000
END:DAYLIGHT
END:VTIMEZONE
BEGIN:VEVENT
UID:62666130-3534-4030-b166-376233333962
DTSTAMP:20260423T102806Z
CATEGORIES:In eigener Sache
CLASS:PUBLIC
DESCRIPTION;ALTREP="CID:<FFFF__=0ABBE548DFE235B58f9e8a93d@coffeebean.com>":
 Das ESSE-Team wurde zur Teilnahme und Mitwirkung am\n9. SWISS GREEN ECONOM
 Y SYMPOSIUM \n«NACHHALTIGKEIT BRAUCHT GENIALE KÖPFE» \nim Casino Theater e
 ingeladen. \n \nDie ESSE bleibt deshalb heute geschlossen!
DTSTART:20210901T220000Z
DTEND:20210901T220000Z
GEO:00;0
LOCATION:
ORGANIZER:
SEQUENCE:1
SUMMARY:Kein Konzert - die ESSE Musicbar bleibt geschlossen
TRANSP:OPAQUE
URL:https://www.esse.bar/index.php/veranstaltungen/vergangene-veranstaltung
 en/1456-ken-konzrt-die-esse-musicbar-bleibt-geschlossen-2/2021-09-02-00-00
END:VEVENT
END:VCALENDAR
