BEGIN:VCALENDAR
VERSION:2.0
PRODID:-//ESSE Musicbar Winterthur//NONSGML kigkonsult.se iCalcreator 2.41.92//
CALSCALE:GREGORIAN
METHOD:PUBLISH
UID:30653164-3530-4438-b866-303464653935
X-WR-CALNAME:iCagenda
X-WR-CALDESC:Event Management Extension for Joomla!
X-WR-RELCALID:3E26604A-50F4-4449-8B3E-E4F4932D05B5
X-WR-TIMEZONE:Europe/Zurich
BEGIN:VTIMEZONE
TZID:Europe/Zurich
TZUNTIL:20231029T010000Z
BEGIN:STANDARD
TZNAME:CET
DTSTART:20211031T030000
TZOFFSETFROM:+0200
TZOFFSETTO:+0100
RDATE:20221030T030000
END:STANDARD
BEGIN:DAYLIGHT
TZNAME:CEST
DTSTART:20210328T020000
TZOFFSETFROM:+0100
TZOFFSETTO:+0200
RDATE:20220327T020000
RDATE:20230326T020000
END:DAYLIGHT
END:VTIMEZONE
BEGIN:VEVENT
UID:64616637-3831-4233-b432-363230663463
DTSTAMP:20260423T113708Z
CATEGORIES:Jazz
CLASS:PUBLIC
DESCRIPTION;ALTREP="CID:<FFFF__=0ABBE548DFE235B58f9e8a93d@coffeebean.com>":
 Ein Klavier\, ein simpel bestücktes Drumset: Mehr braucht das Duo «HELY» a
 us Zürich nicht\, um raumfüllend berauschende Klangwolken zu kreieren.\nPi
 anist Lucca Fries und Drummer Jonas Ruther stacheln sich zu Klangideen an\
 , die sie zu treibenden Loops entwickeln und zu wirbelnden Soundwolken ste
 igern. Was dieses akustische Duo an Klangintensität schafft\, ist ausserge
 wöhnlich.\n«HELY» wurden dieses Jahr von Pro Helvetia in deren Förderprogr
 amm aufgenommen. Mit einem dreijährigen Förderprogramm unterstützt Pro Hel
 vetia ausgewählte jüngere Schweizer Jazzbands\, die bereits eine überregio
 nale Ausstrahlung besitzen\, internationale Tourneen absolviert haben und 
 deren Ziel eine Verstärkung ihrer internationalen Präsenz ist.\nLucca Frie
 s (p)\, Jonas Ruther (dr)\nhttps://www.hely.ch
DTSTART:20211125T191500Z
DTEND:20211125T191500Z
GEO:00;0
LOCATION:
ORGANIZER:
SEQUENCE:1
SUMMARY:HELY
TRANSP:OPAQUE
URL:https://www.esse.bar/index.php/veranstaltungen/vergangene-veranstaltung
 en/1457-hely/2021-11-25-20-15
END:VEVENT
END:VCALENDAR
