BEGIN:VCALENDAR
VERSION:2.0
PRODID:-//ESSE Musicbar Winterthur//NONSGML kigkonsult.se iCalcreator 2.41.92//
CALSCALE:GREGORIAN
METHOD:PUBLISH
UID:63643733-3635-4634-b238-663833386336
X-WR-CALNAME:iCagenda
X-WR-CALDESC:Event Management Extension for Joomla!
X-WR-RELCALID:3E26604A-50F4-4449-8B3E-E4F4932D05B5
X-WR-TIMEZONE:Europe/Zurich
BEGIN:VTIMEZONE
TZID:Europe/Zurich
TZUNTIL:20231029T010000Z
BEGIN:STANDARD
TZNAME:CET
DTSTART:20211031T030000
TZOFFSETFROM:+0200
TZOFFSETTO:+0100
RDATE:20221030T030000
END:STANDARD
BEGIN:DAYLIGHT
TZNAME:CEST
DTSTART:20210328T020000
TZOFFSETFROM:+0100
TZOFFSETTO:+0200
RDATE:20220327T020000
RDATE:20230326T020000
END:DAYLIGHT
END:VTIMEZONE
BEGIN:VEVENT
UID:66363761-3032-4631-b732-343466366461
DTSTAMP:20260423T113816Z
CATEGORIES:Jazz
CLASS:PUBLIC
DESCRIPTION;ALTREP="CID:<FFFF__=0ABBE548DFE235B58f9e8a93d@coffeebean.com>":
 «Sidecar» heisst ein neues Band-Projekt aus dem Thurgau. Dabei handelt es 
 sich um Musiker\, die schon seit ewiger Zeit Musik machen und in den letzt
 en Jahren – unter anderem – bei der Band «Lennox CF» tätig waren.\nIn ihre
 n eigenen Worten: Nach einigen langen – nicht nur wegen der Pandemie – im 
 Übungsraum verbrachten Monaten\, ist es nun an der Zeit\, wieder sauerstof
 freiche Konzertluft zu schnuppern. Helfen sollen uns dabei alte und neue F
 reunde aus Jazzrock-Szene wie Billy Cobham\, Nils Landgren\, Yellow Jacket
 s oder Spyro Gyra.Auch aus dem Estrich von Keyboarder Martin Beerli konnte
 n ein paar Tunes geborgen werden.\nDas neue Programm ist für alle Freund:i
 nnen und für uns ausgesucht. Ausbrüche und Überraschungen sind willkommen.
 \nRicci Lunardi (s)\, Martin Beerli (p\, keyb)\, René Spengler (b)\, Urs S
 täheli (dr)
DTSTART:20211112T191500Z
DTEND:20211112T191500Z
GEO:00;0
LOCATION:
ORGANIZER:
SEQUENCE:1
SUMMARY:Sidecar
TRANSP:OPAQUE
URL:https://www.esse.bar/index.php/veranstaltungen/vergangene-veranstaltung
 en/1459-sidecar/2021-11-12-20-15
END:VEVENT
END:VCALENDAR
