BEGIN:VCALENDAR
VERSION:2.0
PRODID:-//ESSE Musicbar Winterthur//NONSGML kigkonsult.se iCalcreator 2.41.92//
CALSCALE:GREGORIAN
METHOD:PUBLISH
UID:66366137-3563-4362-a130-386235356634
X-WR-CALNAME:iCagenda
X-WR-CALDESC:Event Management Extension for Joomla!
X-WR-RELCALID:3E26604A-50F4-4449-8B3E-E4F4932D05B5
X-WR-TIMEZONE:Europe/Zurich
BEGIN:VTIMEZONE
TZID:Europe/Zurich
TZUNTIL:20231029T010000Z
BEGIN:STANDARD
TZNAME:CET
DTSTART:20211031T030000
TZOFFSETFROM:+0200
TZOFFSETTO:+0100
RDATE:20221030T030000
END:STANDARD
BEGIN:DAYLIGHT
TZNAME:CEST
DTSTART:20210328T020000
TZOFFSETFROM:+0100
TZOFFSETTO:+0200
RDATE:20220327T020000
RDATE:20230326T020000
END:DAYLIGHT
END:VTIMEZONE
BEGIN:VEVENT
UID:62666463-3465-4834-a537-326365643430
DTSTAMP:20260423T114603Z
CATEGORIES:Folk & More
CLASS:PUBLIC
DESCRIPTION;ALTREP="CID:<FFFF__=0ABBE548DFE235B58f9e8a93d@coffeebean.com>":
 „Four Trick Pony“ heisst die neue Konstellation\, welche die beiden Singer
 /Songwriter-Kolleginnen Suzie Candell und Beth Wimmer zusammen mit den Bas
 s- und Gitarrenmeistern Mike Bischof und Roger Szedalik aus einer Laune he
 raus gestartet haben.\nVierstimmig und mit einer gehörigen Portion Leidens
 chaft\, bringt das Quartett sowohl die selbstkomponierten Songs\, als auch
  die eine oder andere bekannte Cover-Version von Fleetwood Mac\, Tom Petty
  oder den Eagles auf die Bühne und verspricht so ein äusserst abwechslungs
 reiches Konzerterlebnis.\nSuzie Candell (voc\, g)\, Beth Wimmer (voc\, g)\
 , Mike Bischof (b\, g\, voc)\, Roger Szedalik (g\, voc)\nhttps://www.suzie
 candell.comhttps://bethwimmer.com
DTSTART:20211114T183000Z
DTEND:20211114T183000Z
GEO:00;0
LOCATION:
ORGANIZER:
SEQUENCE:1
SUMMARY:Four Trick Pony – Americana\, Folk & Country
TRANSP:OPAQUE
URL:https://www.esse.bar/index.php/veranstaltungen/vergangene-veranstaltung
 en/1460-four-trick-pony-americana-folk-country/2021-11-14-19-30
END:VEVENT
END:VCALENDAR
