BEGIN:VCALENDAR
VERSION:2.0
PRODID:-//ESSE Musicbar Winterthur//NONSGML kigkonsult.se iCalcreator 2.41.92//
CALSCALE:GREGORIAN
METHOD:PUBLISH
UID:62666432-6263-4233-a135-633939363461
X-WR-CALNAME:iCagenda
X-WR-CALDESC:Event Management Extension for Joomla!
X-WR-RELCALID:3E26604A-50F4-4449-8B3E-E4F4932D05B5
X-WR-TIMEZONE:Europe/Zurich
BEGIN:VTIMEZONE
TZID:Europe/Zurich
TZUNTIL:20231029T010000Z
BEGIN:STANDARD
TZNAME:CET
DTSTART:20211031T030000
TZOFFSETFROM:+0200
TZOFFSETTO:+0100
RDATE:20221030T030000
END:STANDARD
BEGIN:DAYLIGHT
TZNAME:CEST
DTSTART:20210328T020000
TZOFFSETFROM:+0100
TZOFFSETTO:+0200
RDATE:20220327T020000
RDATE:20230326T020000
END:DAYLIGHT
END:VTIMEZONE
BEGIN:VEVENT
UID:32666331-6233-4363-b432-306234626262
DTSTAMP:20260423T114314Z
CATEGORIES:Jazz
CLASS:PUBLIC
DESCRIPTION;ALTREP="CID:<FFFF__=0ABBE548DFE235B58f9e8a93d@coffeebean.com>":
 Tony Renold hat sich eine Wunschformation zusammengestellt\, die er im Rah
 men seiner «Moods Carte Blanche» auch bei uns in der ESSE vorstellt. Franz
  und Patrick sind langjährige Weggefährten\, Sebastian hat er während eine
 r Tournee mit der Sängerin Barbara Balzan kennen und schätzen gelernt.\nDi
 e Fabulierfreude und die Kunst der jazzigen Dialogik\, die diese vier auss
 ergewöhnlichen Musiker beherrschen\, wird dem Publikum eine spannende und 
 auch humorvolle Klangreise bescheren. Die Musik stammt aus der Feder von T
 ony Renold\, angereichert mit fesselnden Arrangements aus dem Great Americ
 an Songbook.\nTony Renold kann man zu den sogenannten “Musician`s Musician
 s“ zählen. Denn obwohl der Aargauer Jazzdrummer landesweit zu den bedeuten
 dsten Vertretern seines Fachs gehört\, sind es vorab die Mitmusiker\, die 
 von seinem Können\, von seiner Musikalität schwärmen. Wer Renold in seiner
  Band weiss\, kann sich auf einen technisch höchst versierten und stets pü
 nktlich-präzisen Rhythmiker verlassen. Mehr noch: Als feinfühliger Perkuss
 ionist versteht es Renold\, die Fieberkurve der Expressivität empathisch m
 itzuzeichnen. Manchmal reduziert er seine Begleitung auf wenige\, sichere 
 Impulse\; dann wiederum zieht er Solisten mit schlauen trommlerischen Einf
 ällen in einen lockeren Dialog.\nSebastian Studnitzky (tp)\, Franz Hellmül
 ler (g)\, Patrick Sommer (db)\, Tony Renold (dr)\nhttp://www.tonyrenold.ch
 /\n \n 
DTSTART:20211124T191500Z
DTEND:20211124T191500Z
GEO:00;0
LOCATION:
ORGANIZER:
SEQUENCE:1
SUMMARY:Tony Renold Trio feat. Sebastian Studnitzky
TRANSP:OPAQUE
URL:https://www.esse.bar/index.php/veranstaltungen/vergangene-veranstaltung
 en/1461-tony-renold-trio-feat-sebastian-studnitzky/2021-11-24-20-15
END:VEVENT
END:VCALENDAR
