BEGIN:VCALENDAR
VERSION:2.0
PRODID:-//ESSE Musicbar Winterthur//NONSGML kigkonsult.se iCalcreator 2.41.92//
CALSCALE:GREGORIAN
METHOD:PUBLISH
UID:39393266-3062-4439-b035-646465623335
X-WR-CALNAME:iCagenda
X-WR-CALDESC:Event Management Extension for Joomla!
X-WR-RELCALID:3E26604A-50F4-4449-8B3E-E4F4932D05B5
X-WR-TIMEZONE:Europe/Zurich
BEGIN:VTIMEZONE
TZID:Europe/Zurich
TZUNTIL:20231029T010000Z
BEGIN:STANDARD
TZNAME:CET
DTSTART:20211031T030000
TZOFFSETFROM:+0200
TZOFFSETTO:+0100
RDATE:20221030T030000
END:STANDARD
BEGIN:DAYLIGHT
TZNAME:CEST
DTSTART:20210328T020000
TZOFFSETFROM:+0100
TZOFFSETTO:+0200
RDATE:20220327T020000
RDATE:20230326T020000
END:DAYLIGHT
END:VTIMEZONE
BEGIN:VEVENT
UID:64313465-6435-4432-a361-346133303136
DTSTAMP:20260423T114041Z
CATEGORIES:Folk & More
CLASS:PUBLIC
DESCRIPTION;ALTREP="CID:<FFFF__=0ABBE548DFE235B58f9e8a93d@coffeebean.com>":
 Der Ostschweizer Singer/Songwriter und Gitarrist Alex Good war 20 Jahre la
 ng Sideman in diversen Bands unterschiedlichster Stilrichtungen. Einige se
 iner Songs fanden in keiner dieser Bands einen Platz.\nDeshalb beschloss G
 ood 2013 sein eigenes Ding durchzuziehen. Singer/Songwriter-Rock trifft au
 f Blues- und Classic-Rock mit einer Prise Americana. Das Quartett besteht 
 aus langjährigen Freunden\, die sich musikalisch blind verstehen. Spielfre
 ude und gute Laune sind garantiert!\nSeit Juni ist die neue\, während des 
 Lockdown entstandene EP «The Last Round» erhältlich – und das nicht nur vi
 a Download und auf Streaming-Diensten\, sondern auch physisch als CD.\nAle
 x Good (g\, voc\, comp)\, Raffael Meyer (g\, bvoc)\, Nicolas Winter (b)\, 
 Markus Eberle (dr)\nwww.alexgood.ch
DTSTART:20211107T183000Z
DTEND:20211107T183000Z
GEO:00;0
LOCATION:
ORGANIZER:
SEQUENCE:1
SUMMARY:Alex Good & Band
TRANSP:OPAQUE
URL:https://www.esse.bar/index.php/veranstaltungen/vergangene-veranstaltung
 en/1462-alex-good-band/2021-11-07-19-30
END:VEVENT
END:VCALENDAR
