BEGIN:VCALENDAR
VERSION:2.0
PRODID:-//ESSE Musicbar Winterthur//NONSGML kigkonsult.se iCalcreator 2.41.92//
CALSCALE:GREGORIAN
METHOD:PUBLISH
UID:39303761-6232-4166-b438-366431663233
X-WR-CALNAME:iCagenda
X-WR-CALDESC:Event Management Extension for Joomla!
X-WR-RELCALID:3E26604A-50F4-4449-8B3E-E4F4932D05B5
X-WR-TIMEZONE:Europe/Zurich
BEGIN:VTIMEZONE
TZID:Europe/Zurich
TZUNTIL:20231029T010000Z
BEGIN:STANDARD
TZNAME:CET
DTSTART:20211031T030000
TZOFFSETFROM:+0200
TZOFFSETTO:+0100
RDATE:20221030T030000
END:STANDARD
BEGIN:DAYLIGHT
TZNAME:CEST
DTSTART:20210328T020000
TZOFFSETFROM:+0100
TZOFFSETTO:+0200
RDATE:20220327T020000
RDATE:20230326T020000
END:DAYLIGHT
END:VTIMEZONE
BEGIN:VEVENT
UID:39383639-6332-4237-b331-393731353665
DTSTAMP:20260423T114344Z
CATEGORIES:Folk & More
CLASS:PUBLIC
DESCRIPTION;ALTREP="CID:<FFFF__=0ABBE548DFE235B58f9e8a93d@coffeebean.com>":
 Ziemlich genau vor einem Jahr begeisterte die Zürcher Sängerin Christina J
 accard mit ihrem Programm «Beyond The Sunset» das zahlreich erschienene Pu
 blikum in der ESSE. Jetzt doppelt sie mit «Light Of A Clear Blue Morning» 
 nach.\nMit ausdrucksstarker Stimme und emotionaler Kraft lässt Christina J
 accard die Quelle und die eigentliche Bedeutung des Gospels spürbar werden
 . Seit vielen Jahren pflegt sie\, zusammen mit Dave Ruosch\, dem brillante
 n Stride-\, Blues- und Boogie-Pianisten\, das musikalische Erbe berühmter 
 Interpreten wie Mahalia Jackson\, Sister Rosetta Tharpe\, u.v.m.\nAber auc
 h der Pop nimmt einen wichtigen Platz in ihrem Repertoire ein. Ihre Songs 
 sind wie Diamanten\, denen die beiden Musiker\, zusammen mit der jedes Jah
 r einzigartigen Zusammensetzung der Künstler\, ihren besonderen Schliff ge
 ben\, so dass sie immer wieder neu funkeln und dadurch beim Publikum ein G
 efühl von Lebendigkeit und Harmonie auslösen.\nChristina Jaccard (voc)\, D
 avid Ruosch (p)\, Willie Jordan (perc)\nwww.voicejaccard.ch
DTSTART:20211111T191500Z
DTEND:20211111T191500Z
GEO:00;0
LOCATION:
ORGANIZER:
SEQUENCE:1
SUMMARY:Christina Jaccard - «Light Of A Clear Blue Morning»
TRANSP:OPAQUE
URL:https://www.esse.bar/index.php/veranstaltungen/vergangene-veranstaltung
 en/1464-christina-jaccard/2021-11-11-20-15
END:VEVENT
END:VCALENDAR
