BEGIN:VCALENDAR
VERSION:2.0
PRODID:-//ESSE Musicbar Winterthur//NONSGML kigkonsult.se iCalcreator 2.41.92//
CALSCALE:GREGORIAN
METHOD:PUBLISH
UID:66626632-3962-4830-b633-373033613836
X-WR-CALNAME:iCagenda
X-WR-CALDESC:Event Management Extension for Joomla!
X-WR-RELCALID:3E26604A-50F4-4449-8B3E-E4F4932D05B5
X-WR-TIMEZONE:Europe/Zurich
BEGIN:VTIMEZONE
TZID:Europe/Zurich
TZUNTIL:20231029T010000Z
BEGIN:STANDARD
TZNAME:CET
DTSTART:20211031T030000
TZOFFSETFROM:+0200
TZOFFSETTO:+0100
RDATE:20221030T030000
END:STANDARD
BEGIN:DAYLIGHT
TZNAME:CEST
DTSTART:20210328T020000
TZOFFSETFROM:+0100
TZOFFSETTO:+0200
RDATE:20220327T020000
RDATE:20230326T020000
END:DAYLIGHT
END:VTIMEZONE
BEGIN:VEVENT
UID:30326666-3934-4134-b163-633162303037
DTSTAMP:20260423T114137Z
CATEGORIES:Jazz
CLASS:PUBLIC
DESCRIPTION;ALTREP="CID:<FFFF__=0ABBE548DFE235B58f9e8a93d@coffeebean.com>":
 «Bewildered Hearts» ist das Debütalbum des gleichnamigen Trios der Zürcher
  Sängerin und Pianistin Ursula Bachmann mit Tobias Pfister (CH) am Tenorsa
 xofon und Phelan Burgoyne (GB) am Schlagzeug.\nDie Musik des Trios sprengt
  Genre-Grenzen\, verbindet Singer-Songwriting mit Nordic und Modern Jazz. 
 Bachmann betitelt ihre Musik mit Poetic Chamber Jazz. Im Fokus der Songs s
 teht die Stimme von Ursula Bachmann\, die sich durch ihre Reinheit auszeic
 hnet. Sie hat den Mut\, Brüchigkeit zuzulassen und dann wieder in milder S
 tärke aufzutreten. Die Songs aus der Feder der Bandleaderin enthalten Tief
 gang und trotzdem viel Leichtigkeit\, wie das nur Ursula Bachmann vereinen
  kann. Sie bezeichnet sich als Wortesammlerin und schafft es\, mit ihrer s
 charfen Beobachtungsgabe Text und Ton zu einem bilderreichen poetischen Kl
 ang zu verweben. Die Songs widerspiegeln die Schönheit\, die es täglich üb
 erall zu beobachten gibt.\n«Bewildered Hearts» ist ein Album für träumeris
 che Momente. Mit ihrem acht Tracks umfassenden Debüt gelingt es dem Trio\,
  starke Klangwelten mit vielen überraschenden Momenten zu erschaffen. Das 
 Album wird am 5. November 2021 bei dem Label ANUK veröffentlich und mit ei
 ner Release-Tour in CH und DE gefeiert.Ursula Bachmann(p\, voc\, comp)\, T
 obias Pfister (ts)\, Phelan Burgoyne (dr)\nhttps://www.ursulabachmann.ch/b
 ewildered-hearts
DTSTART:20211103T191500Z
DTEND:20211103T191500Z
GEO:00;0
LOCATION:
ORGANIZER:
SEQUENCE:1
SUMMARY:Ursula Bachmann Bewildered Hearts
TRANSP:OPAQUE
URL:https://www.esse.bar/index.php/veranstaltungen/vergangene-veranstaltung
 en/1465-ursula-bachmann-bewildered-hearts/2021-11-03-20-15
END:VEVENT
END:VCALENDAR
