BEGIN:VCALENDAR
VERSION:2.0
PRODID:-//ESSE Musicbar Winterthur//NONSGML kigkonsult.se iCalcreator 2.41.92//
CALSCALE:GREGORIAN
METHOD:PUBLISH
UID:65313031-3034-4263-a637-373265633134
X-WR-CALNAME:iCagenda
X-WR-CALDESC:Event Management Extension for Joomla!
X-WR-RELCALID:3E26604A-50F4-4449-8B3E-E4F4932D05B5
X-WR-TIMEZONE:Europe/Zurich
BEGIN:VTIMEZONE
TZID:Europe/Zurich
TZUNTIL:20231029T010000Z
BEGIN:STANDARD
TZNAME:CET
DTSTART:20211031T030000
TZOFFSETFROM:+0200
TZOFFSETTO:+0100
RDATE:20221030T030000
END:STANDARD
BEGIN:DAYLIGHT
TZNAME:CEST
DTSTART:20210328T020000
TZOFFSETFROM:+0100
TZOFFSETTO:+0200
RDATE:20220327T020000
RDATE:20230326T020000
END:DAYLIGHT
END:VTIMEZONE
BEGIN:VEVENT
UID:39373162-3762-4732-b634-373630336634
DTSTAMP:20260423T114138Z
CATEGORIES:Blues
CLASS:PUBLIC
DESCRIPTION;ALTREP="CID:<FFFF__=0ABBE548DFE235B58f9e8a93d@coffeebean.com>":
 «Purple Lights» ist eine Blues’n’Roll-Band aus der Region Zürich – Ostschw
 eiz. Sie spielen rau und rauchig\; eine Mischung aus Blues\, Rhythm‘n‘Blue
 s und Rock‘n’Roll\, die einfährt. «Purple Lights» bieten einen guten Mix a
 us eigenen\, eingängigen Songs und sie interpretieren handverlesene Covers
 \, so z.B. von den Allman Brothers\, Jimmy Rogers\, John Mayall\, Popa Chu
 bby\, Muddy Waters oder Albert King.\nDie Band besteht aus vier erfahrenen
  Musikern\, die ihre Sporen in verschiedenen Formationen abverdient haben.
  Live-Auftritte zeigen ihre Spielfreude und Stillsitzen ist beinahe unmögl
 ich. Für die aktuelle CD «Hard Workin’ Man» hat die vierköpfige Band neun 
 Songs völlig neu geschaffen: so z.B. bluesige Liebeslieder («Bill Paying B
 lues» oder «The Animal») oder den düsteren Slow-Blues «Such A Sad Song». D
 er Titelsong «Hard Workin‘ Man» ist ein stampfender Blues-Rock\, geschrieb
 en − wie alle anderen – von Peter Hungerbühler. Die Songs belegen eindrück
 lich die Solidität und Authentizität von «Purple Lights». Schweizer Handar
 beit aus amerikanischem Rohstoff.\nEin Blick zurück: Im Juli 2017 hatten d
 ie Lighters die aussergewöhnliche Möglichkeit in Detroit\, USA\, zwei Gigs
  in bekannten Bluesclubs zu spielen und mit internationalen Profi-Musikern
  zu jammen. Ausserdem entstand dort die erste CD «The Detroit Experience».
  An diesen Studioausflug erinnert auf dem neuen Album der Song «Goodbye Am
 erica».\nPeter Hungerbühler (voc\, harp)\, Luca Porreca (g)\, Peter Knüsel
  (b)\, Urs Bischof (dr)\nwww.purple-lights.ch\n 
DTSTART:20211106T191500Z
DTEND:20211106T191500Z
GEO:00;0
LOCATION:
ORGANIZER:
SEQUENCE:1
SUMMARY:Purple Lights – «Hard Workin’ Man»
TRANSP:OPAQUE
URL:https://www.esse.bar/index.php/veranstaltungen/vergangene-veranstaltung
 en/1466-purple-lights/2021-11-06-20-15
END:VEVENT
END:VCALENDAR
