BEGIN:VCALENDAR
VERSION:2.0
PRODID:-//ESSE Musicbar Winterthur//NONSGML kigkonsult.se iCalcreator 2.41.92//
CALSCALE:GREGORIAN
METHOD:PUBLISH
UID:38653434-6637-4236-b138-313034336631
X-WR-CALNAME:iCagenda
X-WR-CALDESC:Event Management Extension for Joomla!
X-WR-RELCALID:3E26604A-50F4-4449-8B3E-E4F4932D05B5
X-WR-TIMEZONE:Europe/Zurich
BEGIN:VTIMEZONE
TZID:Europe/Zurich
TZUNTIL:20231029T010000Z
BEGIN:STANDARD
TZNAME:CET
DTSTART:20211031T030000
TZOFFSETFROM:+0200
TZOFFSETTO:+0100
RDATE:20221030T030000
END:STANDARD
BEGIN:DAYLIGHT
TZNAME:CEST
DTSTART:20210328T020000
TZOFFSETFROM:+0100
TZOFFSETTO:+0200
RDATE:20220327T020000
RDATE:20230326T020000
END:DAYLIGHT
END:VTIMEZONE
BEGIN:VEVENT
UID:62636661-3338-4935-b833-336232363230
DTSTAMP:20260423T114036Z
CATEGORIES:Jazz
CLASS:PUBLIC
DESCRIPTION;ALTREP="CID:<FFFF__=0ABBE548DFE235B58f9e8a93d@coffeebean.com>":
 Da wächst zusammen\, was zusammengehört: die Saxophonistin Fabienne Hoerni
  mit dem warmen Sound und der flinkfingrige Gitarrist Michael Bucher liebe
 n lebendige Musik\, die farbenfroh und zugänglich klingt\, aber stets Tief
 gang bewahrt.\nUnd so haben sie ein wahrlich ungewöhnlich instrumentiertes
  Quartett ins Leben gerufen\, das durch den zugleich lyrischen und express
 iven Pianisten Thomas Lüscher und den vielseitigen Perkussionisten Roland 
 Wäger vervollständigt wird. Die Besetzung erinnert ein bisschen an die leg
 endäre und bahnbrechende World-Jazz-Formation Oregon und lässt vermuten\, 
 dass es dem neuen Quartett nicht um Purismus\, sondern um einen möglichst 
 breiten musikalischen Horizont geht. Man darf sich also auf Musik-Reisen f
 reuen\, die an paradiesisch anmutende Orte führen.  Fabienne Hoerni (ts)\,
  Michael Bucher (g\, bg)\, Thomas Lüscher (p)\, Roland Wäger (dr\, perc)\n
 https://www.fabiennehoerni.chhttps://www.michaelbucher.chhttps://thomaslue
 scher.nethttps://rolandwaeger.ch
DTSTART:20211118T191500Z
DTEND:20211118T191500Z
GEO:00;0
LOCATION:
ORGANIZER:
SEQUENCE:1
SUMMARY:Bucher - Hörni Quartett
TRANSP:OPAQUE
URL:https://www.esse.bar/index.php/veranstaltungen/vergangene-veranstaltung
 en/1467-bucher-hoerni-quartett/2021-11-18-20-15
END:VEVENT
END:VCALENDAR
