BEGIN:VCALENDAR
VERSION:2.0
PRODID:-//ESSE Musicbar Winterthur//NONSGML kigkonsult.se iCalcreator 2.41.92//
CALSCALE:GREGORIAN
METHOD:PUBLISH
UID:61343665-3432-4537-b938-616364656531
X-WR-CALNAME:iCagenda
X-WR-CALDESC:Event Management Extension for Joomla!
X-WR-RELCALID:3E26604A-50F4-4449-8B3E-E4F4932D05B5
X-WR-TIMEZONE:Europe/Zurich
BEGIN:VTIMEZONE
TZID:Europe/Zurich
TZUNTIL:20231029T010000Z
BEGIN:STANDARD
TZNAME:CET
DTSTART:20211031T030000
TZOFFSETFROM:+0200
TZOFFSETTO:+0100
RDATE:20221030T030000
END:STANDARD
BEGIN:DAYLIGHT
TZNAME:CEST
DTSTART:20210328T020000
TZOFFSETFROM:+0100
TZOFFSETTO:+0200
RDATE:20220327T020000
RDATE:20230326T020000
END:DAYLIGHT
END:VTIMEZONE
BEGIN:VEVENT
UID:65356631-3139-4334-b239-663431373430
DTSTAMP:20260423T114042Z
CATEGORIES:Folk & More
CLASS:PUBLIC
DESCRIPTION;ALTREP="CID:<FFFF__=0ABBE548DFE235B58f9e8a93d@coffeebean.com>":
 Vor kurzem trat Shawn – ebenfalls solo – auf einer 16-tägigen Tournee als 
 Support für den legendären Robert Cray in Grossbritannien auf. Shawn Jones
  Fähigkeiten als erfahrener Songwriter\, Gitarrist und Sänger machen ihn z
 u einem der dynamischsten und relevantesten Künstler der heutigen Roots-\,
  Blues- und Americana-Szene. Shawn hat die Bühnen mit vielen renommierten 
 Musikern geteilt\, darunter BB King\, Robert Cray\, Buddy Guy\, Bonnie Rai
 tt\, Waylon Jennings\, Derek Trucks\, Joe Bonamassa und viele andere.\nSha
 wn Jones ist eine Rarität im heutigen Musik-Business: Obwohl er sich stets
  neu erfindet\, bleibt er seinen Wurzeln treu und reisst das Publikum mit 
 seinem unverkennbaren Gitarrenspiel\, seiner sanft-bluesigen Stimme und se
 inen tiefgründigen Songs mit.\nShawn freut sich\, einige ausgewählte Konze
 rte in der Schweiz zu spielen.\nShawn Jones (g\, voc)\nwww.shawnjonesmusic
 .com
DTSTART:20211121T183000Z
DTEND:20211121T183000Z
GEO:00;0
LOCATION:
ORGANIZER:
SEQUENCE:1
SUMMARY:Shawn Jones
TRANSP:OPAQUE
URL:https://www.esse.bar/index.php/veranstaltungen/vergangene-veranstaltung
 en/1468-shawn-jones/2021-11-21-19-30
END:VEVENT
END:VCALENDAR
