BEGIN:VCALENDAR
VERSION:2.0
PRODID:-//ESSE Musicbar Winterthur//NONSGML kigkonsult.se iCalcreator 2.41.92//
CALSCALE:GREGORIAN
METHOD:PUBLISH
UID:64313061-6630-4465-a137-666337633662
X-WR-CALNAME:iCagenda
X-WR-CALDESC:Event Management Extension for Joomla!
X-WR-RELCALID:3E26604A-50F4-4449-8B3E-E4F4932D05B5
X-WR-TIMEZONE:Europe/Zurich
BEGIN:VTIMEZONE
TZID:Europe/Zurich
TZUNTIL:20231029T010000Z
BEGIN:STANDARD
TZNAME:CET
DTSTART:20211031T030000
TZOFFSETFROM:+0200
TZOFFSETTO:+0100
RDATE:20221030T030000
END:STANDARD
BEGIN:DAYLIGHT
TZNAME:CEST
DTSTART:20210328T020000
TZOFFSETFROM:+0100
TZOFFSETTO:+0200
RDATE:20220327T020000
RDATE:20230326T020000
END:DAYLIGHT
END:VTIMEZONE
BEGIN:VEVENT
UID:33636133-6434-4331-b430-353161316237
DTSTAMP:20260423T113848Z
CATEGORIES:Jazz
CLASS:PUBLIC
DESCRIPTION;ALTREP="CID:<FFFF__=0ABBE548DFE235B58f9e8a93d@coffeebean.com>":
 Die Sängerin Cathryn Lehmann und der Pianist Gregor Loepfe sind beide Teil
  der lebendigen Musikszene Baden. Künstler*innen wie Jamie Cullum\, Gregor
 y Porter oder Becca Stevens haben es vorgemacht: Pop trifft auf Jazz – sta
 rke Melodien\, farbige Harmonien\, unterlegt mit raffinierten Grooves und 
 garniert mit perlenden Improvisationen.\nGenau diese Qualitäten zeichnen d
 ie neue Band «Catmosphere» aus. Kern des Repertoires bilden originelle Eig
 enkompositionen\, deren Texte aus dem Leben gegriffen sind und von den kle
 inen Sorgen\, Ängsten und Freuden des Alltags erzählen. Hinzu kommen eigen
 e tollkühne Fassungen von Popsongs aus den 1980er-Jahren (Nik Kershaw\, Ho
 ward Jones\, Cutting Crew\, etc.).\nZusammen mit Chris Frey am Bass und Pe
 ter Preibisch am Schlagzeug präsentieren die beiden ein Repertoire voller 
 Intensität und musikalischer Schlagkraft\, das von feinfühligen Balladen b
 is zu funkig groovenden Nummern reicht. Mit im Gepäck die brandneue CD «Sm
 iles And Tears». Als Gast mit dabei an diesem Abend: Christoph Grab am Ten
 orsaxophon.\nCathryn Lehmann (voc\, lyrics\, comp)\, Gregor Loepfe (p\, co
 mp\, arr)\, Chris Frey (db\, comp)\, Peter Preibisch (dr\, comp)Special gu
 est: Christoph Grab (ts)\nhttp://catmosphere.gregorloepfe.chhttps://cathry
 n.ch/cms/
DTSTART:20211126T191500Z
DTEND:20211126T191500Z
GEO:00;0
LOCATION:
ORGANIZER:
SEQUENCE:1
SUMMARY:Catmosphere – «Smiles and Tears»
TRANSP:OPAQUE
URL:https://www.esse.bar/index.php/veranstaltungen/vergangene-veranstaltung
 en/1469-catmosphere/2021-11-26-20-15
END:VEVENT
END:VCALENDAR
