BEGIN:VCALENDAR
VERSION:2.0
PRODID:-//ESSE Musicbar Winterthur//NONSGML kigkonsult.se iCalcreator 2.41.92//
CALSCALE:GREGORIAN
METHOD:PUBLISH
UID:35653661-6662-4662-b532-313966663362
X-WR-CALNAME:iCagenda
X-WR-CALDESC:Event Management Extension for Joomla!
X-WR-RELCALID:3E26604A-50F4-4449-8B3E-E4F4932D05B5
X-WR-TIMEZONE:Europe/Zurich
BEGIN:VTIMEZONE
TZID:Europe/Zurich
TZUNTIL:20231029T010000Z
BEGIN:STANDARD
TZNAME:CET
DTSTART:20211031T030000
TZOFFSETFROM:+0200
TZOFFSETTO:+0100
RDATE:20221030T030000
END:STANDARD
BEGIN:DAYLIGHT
TZNAME:CEST
DTSTART:20210328T020000
TZOFFSETFROM:+0100
TZOFFSETTO:+0200
RDATE:20220327T020000
RDATE:20230326T020000
END:DAYLIGHT
END:VTIMEZONE
BEGIN:VEVENT
UID:34323766-6638-4539-b565-326161363064
DTSTAMP:20260423T114003Z
CATEGORIES:Folk & More
CLASS:PUBLIC
DESCRIPTION;ALTREP="CID:<FFFF__=0ABBE548DFE235B58f9e8a93d@coffeebean.com>":
 Mit währschaften traditionellen Schweizer Volksmusikklängen wandern SULP d
 urch malerische Häuserschluchten und jagen über wilde Strassenkreuzungen. 
 Manchmal spielen sie eine Polka schottisch\, Mozart à la Jost Ribary oder 
 einen Schottisch auf albanisch. Lüpfige Rhythmen und standfeste Dreiklänge
 \, lustige\, sentimentale oder sperrige Melodien\, gradlinige Tanzmusik un
 d virtuose Verspieltheit mischen sie zu urbanen Klangbildern. Sie musizier
 en damit von der Kuhweide in den Feierabendstau – und wieder zurück zu Che
 eseburger und Älplermagronen.\nSULP fischt wohl ihre Musik direkt aus dem 
 «Tohuwabohu». Wie sonst könnte man sich diesen markigen Sound und die musi
 kalische Vielfalt ihrer neuen CD erklären? Das Trio erklimmt die Alpen und
  saust kurz darauf mit viel Schwung pulsierenden Metropolen entgegen. Klan
 glich immer nahe an der Ursuppe dran spannen die drei Musiker aus Basel de
 n musikalischen Bogen auf ihrer bereits fünften CD von Schweizer Alpenmusi
 k zu Worldmusic\, von eigenen Kompositionen zu Evergreens\, Ländler und Sc
 hottisch. Inspiriert von ihren zahlreichen Auftritten in Stadt und Land so
 wie ihren Tourneen in Südafrika und Japan entstand ein Chrüsimüsi sondergl
 eichen. Keine Alp zu hoch\, kein Club zu cool\, um nicht SULP zu hören!\nM
 atthias Gubler (Sopran- und Tenorsaxophon)\, Simon Dettwiler (Schwyzerörge
 li)\,Hannes Fankhauser (Kontrabass\, Tuba\, Alphorn)\nhttps://www.sulp.ch
DTSTART:20211128T183000Z
DTEND:20211128T183000Z
GEO:00;0
LOCATION:
ORGANIZER:
SEQUENCE:1
SUMMARY:SULP (SwissUrbanLändlerPassion) – «Tohuwabohu»
TRANSP:OPAQUE
URL:https://www.esse.bar/index.php/veranstaltungen/vergangene-veranstaltung
 en/1470-s-u-l-p/2021-11-28-19-30
END:VEVENT
END:VCALENDAR
