BEGIN:VCALENDAR
VERSION:2.0
PRODID:-//ESSE Musicbar Winterthur//NONSGML kigkonsult.se iCalcreator 2.41.92//
CALSCALE:GREGORIAN
METHOD:PUBLISH
UID:33323664-6431-4230-b839-656439656364
X-WR-CALNAME:iCagenda
X-WR-CALDESC:Event Management Extension for Joomla!
X-WR-RELCALID:3E26604A-50F4-4449-8B3E-E4F4932D05B5
X-WR-TIMEZONE:Europe/Zurich
BEGIN:VTIMEZONE
TZID:Europe/Zurich
TZUNTIL:20231029T010000Z
BEGIN:STANDARD
TZNAME:CET
DTSTART:20211031T030000
TZOFFSETFROM:+0200
TZOFFSETTO:+0100
RDATE:20221030T030000
END:STANDARD
BEGIN:DAYLIGHT
TZNAME:CEST
DTSTART:20210328T020000
TZOFFSETFROM:+0100
TZOFFSETTO:+0200
RDATE:20220327T020000
RDATE:20230326T020000
END:DAYLIGHT
END:VTIMEZONE
BEGIN:VEVENT
UID:61353961-6337-4130-b239-366665326633
DTSTAMP:20260420T020944Z
CATEGORIES:Party
CLASS:PUBLIC
DESCRIPTION;ALTREP="CID:<FFFF__=0ABBE548DFE235B58f9e8a93d@coffeebean.com>":
 Liebe Tanzfreund*innen\nAm 11. Dezember punkt 8 Uhr abends legen wir wiede
 r für einige Stunden heisse Scherben aus den 50er bis 80er Jahren auf\, ei
 n Gegenmittel zu den hochnebligen\, kalten November- und Dezembertage. Las
 st Euch von der stimmungsvollen Musik\, die zum sich Bewegen und Tanzen ei
 nlädt\, verführen.\nWir werden einige weniger bekannte Songs abspielen\, z
 um Beispiel von Sophia Loren und Mary Ford mit Les Paul. Auch die 70er und
  80er Jahre werden nicht zu kurz kommen. Lasst euch überraschen!\nSelbstve
 rständlich müssen wir uns an die geltenden Einlassbedingungen halten\, d.h
 . es gilt die 3-G Regel.\nDie Bar bietet ihre Snacks und Drinks bereits ab
  17 Uhr an. Wer also den Abend gemütlich beginnen will\, darf gerne schon 
 früher kommen.\nAlles Gute und viel Spass euer LET'S DANCE TEAMJochen\, Ma
 rk\, Rolf und Stefan\nFlyer
DTSTART:20211211T190000Z
DTEND:20211211T190000Z
GEO:00;0
LOCATION:
ORGANIZER:
SEQUENCE:1
SUMMARY:Let's dance 45
TRANSP:OPAQUE
URL:https://www.esse.bar/index.php/veranstaltungen/vergangene-veranstaltung
 en/1472-let-s-dance-45/2021-12-11-20-00
END:VEVENT
END:VCALENDAR
