BEGIN:VCALENDAR
VERSION:2.0
PRODID:-//ESSE Musicbar Winterthur//NONSGML kigkonsult.se iCalcreator 2.41.92//
CALSCALE:GREGORIAN
METHOD:PUBLISH
UID:63343638-6562-4034-b631-343562626564
X-WR-CALNAME:iCagenda
X-WR-CALDESC:Event Management Extension for Joomla!
X-WR-RELCALID:3E26604A-50F4-4449-8B3E-E4F4932D05B5
X-WR-TIMEZONE:Europe/Zurich
BEGIN:VTIMEZONE
TZID:Europe/Zurich
TZUNTIL:20231029T010000Z
BEGIN:STANDARD
TZNAME:CET
DTSTART:20211031T030000
TZOFFSETFROM:+0200
TZOFFSETTO:+0100
RDATE:20221030T030000
END:STANDARD
BEGIN:DAYLIGHT
TZNAME:CEST
DTSTART:20210328T020000
TZOFFSETFROM:+0100
TZOFFSETTO:+0200
RDATE:20220327T020000
RDATE:20230326T020000
END:DAYLIGHT
END:VTIMEZONE
BEGIN:VEVENT
UID:66623161-6433-4232-b139-343835373139
DTSTAMP:20260420T021300Z
CATEGORIES:Folk & More
CLASS:PUBLIC
DESCRIPTION;ALTREP="CID:<FFFF__=0ABBE548DFE235B58f9e8a93d@coffeebean.com>":
 Niels van der Waerden ist immer wieder für eine Überraschung gut! Er singt
  und spielt am Klavier die Klassiker von Georg Kreisler. Er lässt Künstler
  aus den 1920er Jahren\, wie Otto Reutter (mit 'Der Überzieher') oder Frie
 drich Holländer (mit 'Stroganoff')\, wieder aufleben. Er findet gesellscha
 ftskritische Lieder\, deren raffiniert subversive Texte heute noch so aktu
 ell sind wie damals.\nAber die Liederabende mit Niels van der Waerden sind
  nichts für ruhige Stunden. Hier geht es hoch her\, hier kommen die grosse
 n Fragen dran. Quer durch die Musik der Jahrzehnte geht es\, an den Bohémi
 ens vorbei und an den Hippies und an den Revoluzzern. Edelkitsch gibt’s hi
 er\, Tingeltangel\, Bänkelgesang\, Mitgröhl-Klassiker und das beste aus hu
 ndert Jahren Protestmusik. Dazu poltert das Klavier\, und zwischendrin wir
 d die Welt erklärt. Wer Pop und Schlager mag\, kommt hier immer wieder mal
  auf seine Kosten\, wer Musik mag\, die auf den Putz haut und nach dem gut
 en Leben ruft\, erst recht.\nNiels van der Waerden (p\, voc)\nhttps://niel
 svanderwaerden.bandcamp.com
DTSTART:20211212T183000Z
DTEND:20211212T183000Z
GEO:00;0
LOCATION:
ORGANIZER:
SEQUENCE:1
SUMMARY:Niels van der Waerden
TRANSP:OPAQUE
URL:https://www.esse.bar/index.php/veranstaltungen/vergangene-veranstaltung
 en/1473-niels-van-der-waerden/2021-12-12-19-30
END:VEVENT
END:VCALENDAR
