BEGIN:VCALENDAR
VERSION:2.0
PRODID:-//ESSE Musicbar Winterthur//NONSGML kigkonsult.se iCalcreator 2.41.92//
CALSCALE:GREGORIAN
METHOD:PUBLISH
UID:31306435-3865-4436-b435-366534303834
X-WR-CALNAME:iCagenda
X-WR-CALDESC:Event Management Extension for Joomla!
X-WR-RELCALID:3E26604A-50F4-4449-8B3E-E4F4932D05B5
X-WR-TIMEZONE:Europe/Zurich
BEGIN:VTIMEZONE
TZID:Europe/Zurich
TZUNTIL:20231029T010000Z
BEGIN:STANDARD
TZNAME:CET
DTSTART:20211031T030000
TZOFFSETFROM:+0200
TZOFFSETTO:+0100
RDATE:20221030T030000
END:STANDARD
BEGIN:DAYLIGHT
TZNAME:CEST
DTSTART:20210328T020000
TZOFFSETFROM:+0100
TZOFFSETTO:+0200
RDATE:20220327T020000
RDATE:20230326T020000
END:DAYLIGHT
END:VTIMEZONE
BEGIN:VEVENT
UID:32376566-3831-4661-b663-613536363333
DTSTAMP:20260420T020109Z
CATEGORIES:Folk & More
CLASS:PUBLIC
DESCRIPTION;ALTREP="CID:<FFFF__=0ABBE548DFE235B58f9e8a93d@coffeebean.com>":
 Eigentlich hätte an diesem «Folk &amp\; More»-Sonntag unter dem Motto «Fro
 h und roh» - so heisst die neue «Doppelbock»-CD - stattfinden sollen. Da j
 edoch nicht alle Impfungen verabreicht werden konnten\, gilt es leider\, d
 ieses Konzert in den Frühling zu verschieben. Aber keine Angst: Ein Konzer
 t findet diesen Sonntag dennoch statt.\nDie auftretende Formation nennen w
 ir doch einfach «Lauterburg &amp\; Co.». Fest steht diese zum jetzigen Zei
 tpunkt als Trio: Christine Lauterburg\, eine Trägerin des Schweizerischen 
 Musikpreises 2021\, bekannt als Solistin und im Zusammenspiel mit wechseln
 den Formationen\, wie Doppelbock\, Landstreichmusik und Aërope unterwegs\,
  überrascht mit innovativen Liedbegleitungen auf der Violine\, dem Talerbe
 cken und natürlich mit Juchz und Jodel. Simon Dettwiler mit seinen verschi
 edenen Schwyzerörgelis und Jürg Nietlisbach am Kontrabass haben ebenfalls 
 zugesagt. Einem fröhlichen Sonntag steht somit nichts mehr im Wege.\nChris
 tine Lauterburg (Jodel\, Langnauerli\, Geige\, Besen)\, Simon Dettwiler (S
 chwyzerörgeli)\, Jürg Nietlisbach (db)\nhttp://christinelauterburg.ch\nAkt
 uelle Coronasituation: https://esse.bar/programm/corona-news
DTSTART:20211219T183000Z
DTEND:20211219T183000Z
GEO:00;0
LOCATION:
ORGANIZER:
SEQUENCE:1
SUMMARY:Lauterburg & Co.
TRANSP:OPAQUE
URL:https://www.esse.bar/index.php/veranstaltungen/vergangene-veranstaltung
 en/1475-doppelbock/2021-12-19-19-30
END:VEVENT
END:VCALENDAR
