BEGIN:VCALENDAR
VERSION:2.0
PRODID:-//ESSE Musicbar Winterthur//NONSGML kigkonsult.se iCalcreator 2.41.92//
CALSCALE:GREGORIAN
METHOD:PUBLISH
UID:65663065-6538-4931-b766-373933633861
X-WR-CALNAME:iCagenda
X-WR-CALDESC:Event Management Extension for Joomla!
X-WR-RELCALID:3E26604A-50F4-4449-8B3E-E4F4932D05B5
X-WR-TIMEZONE:Europe/Zurich
BEGIN:VTIMEZONE
TZID:Europe/Zurich
TZUNTIL:20231029T010000Z
BEGIN:STANDARD
TZNAME:CET
DTSTART:20211031T030000
TZOFFSETFROM:+0200
TZOFFSETTO:+0100
RDATE:20221030T030000
END:STANDARD
BEGIN:DAYLIGHT
TZNAME:CEST
DTSTART:20210328T020000
TZOFFSETFROM:+0100
TZOFFSETTO:+0200
RDATE:20220327T020000
RDATE:20230326T020000
END:DAYLIGHT
END:VTIMEZONE
BEGIN:VEVENT
UID:38643831-6266-4630-b663-313739303631
DTSTAMP:20260420T021221Z
CATEGORIES:Jazz
CLASS:PUBLIC
DESCRIPTION;ALTREP="CID:<FFFF__=0ABBE548DFE235B58f9e8a93d@coffeebean.com>":
 Wie sagte schon Benjamin Franklin: “Nur zwei Dinge auf dieser Welt sind un
 s sicher: Die Steuer und die alljährliche Weihnachtsfeier mit den Sad Pump
 kins”.\nSo sind die beiden traurigen Kürbisse Niculin Janett und Noam Szyf
 er auch 2021 wieder unterwegs und versprühen ihre unverkennbare Mischung a
 us fröhlich-festlicher Musik und einem Schuss Melancholie.   Sie bringen d
 ie guten alten amerikanischen und europäischen Weihnachtsklassiker in die 
 Gegenwart\, wie immer mit der standesgemässen Coolness\, wie man es von «T
 he Sad Pumpkins» gewohnt ist.\nUnd da sich ein Weihnachtsschlitten zu vier
 t bekanntlich leichter ziehen lässt ist den beiden die Unterstützung ihrer
  langjährigen Weggefährten wieder gewiss: Mo Meyer am Kontrabass und Maxim
 e Paratte am Schlagzeug sorgen für das besinnliche Fundament der Weihnacht
 sfeierlichkeiten.\nNiculin “Songbird Trainee” Janett – Vocals / Saxophone 
 Noam “The Dreidel” Szyfer – GuitarMo “El Bajo Loco” Meyer – Upright BassMa
 xime “Rim Shot Frosty” Paratte - Drums\nhttp://www.thesadpumpkins.ch/\nAkt
 uelle Coronasituation: https://esse.bar/programm/corona-news
DTSTART:20211222T191500Z
DTEND:20211222T191500Z
GEO:00;0
LOCATION:
ORGANIZER:
SEQUENCE:1
SUMMARY:The Sad Pumpkins – «Sad Christmas»
TRANSP:OPAQUE
URL:https://www.esse.bar/index.php/veranstaltungen/vergangene-veranstaltung
 en/1479-the-sad-pumpkins-3/2021-12-22-20-15
END:VEVENT
END:VCALENDAR
