BEGIN:VCALENDAR
VERSION:2.0
PRODID:-//ESSE Musicbar Winterthur//NONSGML kigkonsult.se iCalcreator 2.41.92//
CALSCALE:GREGORIAN
METHOD:PUBLISH
UID:62313763-3164-4739-b038-383735316331
X-WR-CALNAME:iCagenda
X-WR-CALDESC:Event Management Extension for Joomla!
X-WR-RELCALID:3E26604A-50F4-4449-8B3E-E4F4932D05B5
X-WR-TIMEZONE:Europe/Zurich
BEGIN:VTIMEZONE
TZID:Europe/Zurich
TZUNTIL:20231029T010000Z
BEGIN:STANDARD
TZNAME:CET
DTSTART:20211031T030000
TZOFFSETFROM:+0200
TZOFFSETTO:+0100
RDATE:20221030T030000
END:STANDARD
BEGIN:DAYLIGHT
TZNAME:CEST
DTSTART:20210328T020000
TZOFFSETFROM:+0100
TZOFFSETTO:+0200
RDATE:20220327T020000
RDATE:20230326T020000
END:DAYLIGHT
END:VTIMEZONE
BEGIN:VEVENT
UID:64653163-6462-4165-b738-386238333939
DTSTAMP:20260420T021440Z
CATEGORIES:Jazz
CLASS:PUBLIC
DESCRIPTION;ALTREP="CID:<FFFF__=0ABBE548DFE235B58f9e8a93d@coffeebean.com>":
 Dezember. Weihnachten naht. Tradition\, Tradition. Also gerne wieder auf’s
  neue: Schon neun Jahre ist es her\, seit der Winterthurer Pianist und Org
 anist Marcel Thomi\, zusammen mit dem Saxofonisten Raffaele Lunardi und de
 m Schlagzeuger Tobias Friedli\, einen Beitrag zur Kategorie Christmas-Jazz
  in Form seines Albums «Marcel Thomi’s X-Mas Songs» abgeliefert hat. Und n
 atürlich ist der Dezember wohl der einzige Monat\, wo Thomi mit seinem Tri
 o und diesem Programm zu hören ist. Umso schöner\, dass wir auch dieses Ja
 hr wieder einen passenden Termin gefunden haben.\nDass diese Auftritte auc
 h immer gut besucht sind\, liegt an der Interpretation dieser bekannten We
 ihnachts-Klassiker. Da steckt nämlich kein Kitsch und keine Seichtheit dri
 n\, sondern viel Groove\, Spielfreude\, kreative Arrangierarbeit und musik
 alischer Humor. Die Melodien kennt man zwar\, aber nicht die Verpackung. O
 b Jazz\, Funk oder Blues\, Stücke wie «Leise rieselt der Schnee» oder «Sti
 lle Nacht» werden entstaubt\, seziert\, neu zusammengesetzt und in ein bun
 tes Jazzkleid gesteckt. Da werden sogar Weihnachtsmuffel positiv gestimmt.
 \nRaffaele Lunardi (s)\, Marcel Thomi (hammond b3)\, Tobias Friedli (dr)\n
 http://www.marcelthomi.chhttp://lunardimusic.ch/musik/marcel-thomis-x-mas-
 songs/www.tobiasfriedli.ch\nAktuelle Coronasituation: https://esse.bar/pro
 gramm/corona-news
DTSTART:20211223T191500Z
DTEND:20211223T191500Z
GEO:00;0
LOCATION:
ORGANIZER:
SEQUENCE:1
SUMMARY:Marcel Thomi’s X-Mas Songs
TRANSP:OPAQUE
URL:https://www.esse.bar/index.php/veranstaltungen/vergangene-veranstaltung
 en/1480-marcel-thomi-s-x-mas-songs-3/2021-12-23-20-15
END:VEVENT
END:VCALENDAR
