BEGIN:VCALENDAR
VERSION:2.0
PRODID:-//ESSE Musicbar Winterthur//NONSGML kigkonsult.se iCalcreator 2.41.92//
CALSCALE:GREGORIAN
METHOD:PUBLISH
UID:65323838-3262-4964-a531-323034353635
X-WR-CALNAME:iCagenda
X-WR-CALDESC:Event Management Extension for Joomla!
X-WR-RELCALID:3E26604A-50F4-4449-8B3E-E4F4932D05B5
X-WR-TIMEZONE:Europe/Zurich
BEGIN:VTIMEZONE
TZID:Europe/Zurich
TZUNTIL:20231029T010000Z
BEGIN:STANDARD
TZNAME:CET
DTSTART:20211031T030000
TZOFFSETFROM:+0200
TZOFFSETTO:+0100
RDATE:20221030T030000
END:STANDARD
BEGIN:DAYLIGHT
TZNAME:CEST
DTSTART:20210328T020000
TZOFFSETFROM:+0100
TZOFFSETTO:+0200
RDATE:20220327T020000
RDATE:20230326T020000
END:DAYLIGHT
END:VTIMEZONE
BEGIN:VEVENT
UID:64333337-3165-4265-b263-663830643966
DTSTAMP:20260423T114343Z
CATEGORIES:Jazz
CLASS:PUBLIC
DESCRIPTION;ALTREP="CID:<FFFF__=0ABBE548DFE235B58f9e8a93d@coffeebean.com>":
 Rebecca Spiteri\, die musikalische Weltenbummlerin\, ist in der ESSE-Bar k
 eine Unbekannte. Ob Gospel\, Soul\, Jazz\, R&amp\;B\, Bossa oder Salsa\; m
 it ihrer Begabung ist sie auf vielen Kontinenten zuhause. Diesmal entführt
  sie uns nach Südamerika mit selbst-arrangiertem Bossa\, Samba\, Chachacha
 \, Bolero\, Mambo und Son – natürlich immer aus der Perspektive des Jazz.
 \nSie wird begleitet von:\nAlex Wilson am Piano\, geboren in England und a
 ufgewachsen in Sierra Leone\, lebt mittlerweile in der Schweiz und kann au
 f eine langjährige Erfahrung als Komponist\, Produzent und Arrangeur im Be
 reich Jazz/Latin zurückblicken. Gewinner des LUKAS-Preises für Jazz in Eur
 opa\, ist er fest in den Genres der Weltmusik verwurzelt.\nEr ist mit Wynt
 on Marsalis\, Ernest Ranglin\, Courtney Pine\, Hugh Masakela (RIP) aufgetr
 eten und war musikalischer Leiter/Arrangeur für Rodrigo y Gabriela und der
 en Kuba Projekt. Er leitete eine Zusammenarbeit mit dem malischen Griot Ma
 dou Sidiki Diabaté und Ahmed Fofana bei dem preisgekrönten Mali Latino Pro
 jekt und hat gemeinsam mit Omar Puente\, Seckou Keita und Lee Knights Büch
 er geschrieben.\nDimitris Christopoulos am Bass\, geboren in Athen\, began
 n er bereits mit zwölf sein Musikstudium mit der klassischen Gitarre. An d
 er Nakas Jazz Schoοl\, mit dem Meister Yotis Kiourtzoglou\, lernte er Bass
  spielen und setzte ein paar Jahre später sein Musikstudium mit dem Kontra
 bass an der Klassischen Musikakademie Zografou mit Kostas Koubelis fort.\n
 Dimitris war mit etlichen lokalen Jazzgruppen und griechischen Künstlern w
 ie Anna Vissi\, Sakis Rouvas und Giannis Spanos unterwegs. Im Jahr 2008 sc
 hloss sich Dimitris der Gruppe Mercadonegro Orchestra und dem zweifach für
  den Grammy nominierten Geiger Alfredo De La Fe an. Jetzt arbeitet er als 
 professioneller Studiomusiker\, Lehrer und Live-Performer und tourt mit ve
 rschiedenen Top Acts wie: Tito Nieves\, Jerry Rivera\, Jose Alberto el can
 ario\, Mercado Negro\, Alex Wilson\, Malia\, Pee Wee Ellis\, Matt Bianco e
 tc.\nRodrigo Rodriguez\, Congas/Timbales\, stammt aus Cartagena/Colombia g
 eboren\, wo er seit Klein mit Musik und Rythmen in Verbindung stand. Von 1
 987-1991 hat Rodrigo an der renommierten Schule “Escuela de Bellas Artes d
 e Cartagena” studiert. 1991 ist er zu der populären Band von Joseito Marti
 nez\, Ballet Nacional de Colombia\, Orquesta La Octava Potencia zugestosse
 n.\n1995 ist Rodrigo in die Schweiz gezogen und hat angefangen mit Tony Ma
 rtinez and The Cuban Power (Latin\, Jazz &amp\; Funk) zu spielen. 1998 ist
  er ausschliesslich mit dem berühmten Violinisten Alfredo de la Fe gereist
 \, wo er dann auch weltweit Erfahrung sammeln konnte. Auch hat er die Bühn
 e mit Celia Cruz\, Eddie Palmieri\, Ray Sepulveda\, Julio Barreta\, Santan
 a etc. geteilt.\nDiese vier Musiker verbindet eine Leidenschaft für das mu
 sical heritage von Latin America. Rebecca freut sich auf einem mitreissend
 en Abend mit alegria und pura vida.\nRebecca Spiteri (voc)\, Alex Wilson (
 p)\, Dimitris Christopoulos (db)\, Rodrigo Rodriguez (perc)\nhttps://www.s
 piteri.ch
DTSTART:20211209T191500Z
DTEND:20211209T191500Z
GEO:00;0
LOCATION:
ORGANIZER:
SEQUENCE:1
SUMMARY:Rebecca Goes Latin
TRANSP:OPAQUE
URL:https://www.esse.bar/index.php/veranstaltungen/vergangene-veranstaltung
 en/1483-rebecca-goes-latin/2021-12-09-20-15
END:VEVENT
END:VCALENDAR
