BEGIN:VCALENDAR
VERSION:2.0
PRODID:-//ESSE Musicbar Winterthur//NONSGML kigkonsult.se iCalcreator 2.41.92//
CALSCALE:GREGORIAN
METHOD:PUBLISH
UID:33396535-3161-4534-a634-386462646266
X-WR-CALNAME:iCagenda
X-WR-CALDESC:Event Management Extension for Joomla!
X-WR-RELCALID:3E26604A-50F4-4449-8B3E-E4F4932D05B5
X-WR-TIMEZONE:Europe/Zurich
BEGIN:VTIMEZONE
TZID:Europe/Zurich
TZUNTIL:20231029T010000Z
BEGIN:STANDARD
TZNAME:CET
DTSTART:20211031T030000
TZOFFSETFROM:+0200
TZOFFSETTO:+0100
RDATE:20221030T030000
END:STANDARD
BEGIN:DAYLIGHT
TZNAME:CEST
DTSTART:20210328T020000
TZOFFSETFROM:+0100
TZOFFSETTO:+0200
RDATE:20220327T020000
RDATE:20230326T020000
END:DAYLIGHT
END:VTIMEZONE
BEGIN:VEVENT
UID:66643663-6261-4530-b930-626438353738
DTSTAMP:20260420T021440Z
CATEGORIES:Blues
CLASS:PUBLIC
DESCRIPTION;ALTREP="CID:<FFFF__=0ABBE548DFE235B58f9e8a93d@coffeebean.com>":
 Die «Blues Neighbors» - Patrick\, Werner und Kaspar - haben lange Zeit pra
 ktisch Tür an Tür gelebt\, ohne dies zu wissen…\nSeit geraumer Zeit orient
 ieren sich die drei blues-versierten Musiker - Gitarre/Gesang\, Kontrabass
  und Mundharmonika - am Ursprung des schwarzen Blues und harmonieren nun p
 erfekt miteinander.\nLeidenschaftlich gerne entführen sie das Publikum auf
  eine akustische Reise zum Mississippi-Delta der 30er bis 60er-Jahre.\nPat
 rick Oriet (g\, voc)\, Kaspar Hitz (harp)\, Werni Straub (db)\n \n 
DTSTART:20211217T191500Z
DTEND:20211217T191500Z
GEO:00;0
LOCATION:
ORGANIZER:
SEQUENCE:1
SUMMARY:The Blues Neighbors
TRANSP:OPAQUE
URL:https://www.esse.bar/index.php/veranstaltungen/vergangene-veranstaltung
 en/1484-the-blues-neighbors/2021-12-17-20-15
END:VEVENT
END:VCALENDAR
