BEGIN:VCALENDAR
VERSION:2.0
PRODID:-//ESSE Musicbar Winterthur//NONSGML kigkonsult.se iCalcreator 2.41.92//
CALSCALE:GREGORIAN
METHOD:PUBLISH
UID:66613364-3666-4234-b535-646131373366
X-WR-CALNAME:iCagenda
X-WR-CALDESC:Event Management Extension for Joomla!
X-WR-RELCALID:3E26604A-50F4-4449-8B3E-E4F4932D05B5
X-WR-TIMEZONE:Europe/Zurich
BEGIN:VTIMEZONE
TZID:Europe/Zurich
TZUNTIL:20231029T010000Z
BEGIN:STANDARD
TZNAME:CET
DTSTART:20211031T030000
TZOFFSETFROM:+0200
TZOFFSETTO:+0100
RDATE:20221030T030000
END:STANDARD
BEGIN:DAYLIGHT
TZNAME:CEST
DTSTART:20210328T020000
TZOFFSETFROM:+0100
TZOFFSETTO:+0200
RDATE:20220327T020000
RDATE:20230326T020000
END:DAYLIGHT
END:VTIMEZONE
BEGIN:VEVENT
UID:65633034-6636-4737-b764-396339383638
DTSTAMP:20260423T114313Z
CATEGORIES:Jazz
CLASS:PUBLIC
DESCRIPTION;ALTREP="CID:<FFFF__=0ABBE548DFE235B58f9e8a93d@coffeebean.com>":
 Schmachtfetzen\, Schnulzen und Liebeslieder – was wäre die Liebe ohne Love
 songs? Ein romantischer Abend zu Punkrock\, Heavy Metall und Free Jazz? Da
 s wäre zwar auch okay\, aber irgendwas würde fehlen. Selbst Lady Gaga hat 
 mit dem Crooner Tony Bennett mit «Cheek To Cheek» und «Love For Sale» bere
 its zwei Alben mit Jazz-Lovesongs veröffentlicht. Nun nehmen sich Christia
 n Rösli (p) und Andreas Zitz (db) in der sechsten Folge ihrer Reihe «Don’t
  Forget The Poets» diesem Thema an. Gemeinsam mit Christian Münchinger (ts
 ) und Tobias Hunziker widmen sie sich den Liebesgeschichten des Jazz. Ein 
 Abend im Zeichen der Liebe.\nKeine Angst\, das wird jetzt nicht kitschig. 
 Jazz bedeutet ja auch Coolness\, Freiheit\, Frechheit und eine Portion Mac
 hotum\, bietet aber gleichzeitig auch die Möglichkeit\, Gefühle in Form vo
 n Liebesliedern zum Ausdruck zu bringen.\nTitel wie «My One And Only Love»
 \, «If I Were A Bell» oder «The Best Thing For You Is Me» zeugen von der N
 eigung der Komponisten\, sich dem schönsten aller Gefühle hinzugeben - der
  Liebe.\nChristian Münchinger (ts)\, Christian Rösli (p)\, Andreas Zitz (d
 b)\, Tobias Hunziker (dr)\nwww.christianmuenchinger.chhttps://andreaszitz.
 chhttps://www.tobiashunziker.ch
DTSTART:20211119T191500Z
DTEND:20211119T191500Z
GEO:00;0
LOCATION:
ORGANIZER:
SEQUENCE:1
SUMMARY:Don’t Forget The Poets #6  – «The Most Beautiful Lovesongs In The H
 istory Of Jazz»
TRANSP:OPAQUE
URL:https://www.esse.bar/index.php/veranstaltungen/vergangene-veranstaltung
 en/1485-don-t-forget-the-poets/2021-11-19-20-15
END:VEVENT
END:VCALENDAR
