BEGIN:VCALENDAR
VERSION:2.0
PRODID:-//ESSE Musicbar Winterthur//NONSGML kigkonsult.se iCalcreator 2.41.92//
CALSCALE:GREGORIAN
METHOD:PUBLISH
UID:62623765-6138-4066-a439-396634623862
X-WR-CALNAME:iCagenda
X-WR-CALDESC:Event Management Extension for Joomla!
X-WR-RELCALID:3E26604A-50F4-4449-8B3E-E4F4932D05B5
X-WR-TIMEZONE:Europe/Zurich
BEGIN:VTIMEZONE
TZID:Europe/Zurich
TZUNTIL:20231029T010000Z
BEGIN:STANDARD
TZNAME:CET
DTSTART:20211031T030000
TZOFFSETFROM:+0200
TZOFFSETTO:+0100
RDATE:20221030T030000
END:STANDARD
BEGIN:DAYLIGHT
TZNAME:CEST
DTSTART:20210328T020000
TZOFFSETFROM:+0100
TZOFFSETTO:+0200
RDATE:20220327T020000
RDATE:20230326T020000
END:DAYLIGHT
END:VTIMEZONE
BEGIN:VEVENT
UID:64323237-3663-4038-a634-313331626161
DTSTAMP:20260420T021118Z
CATEGORIES:Folk & More
CLASS:PUBLIC
DESCRIPTION;ALTREP="CID:<FFFF__=0ABBE548DFE235B58f9e8a93d@coffeebean.com>":
 Bei «Pflanzplätz» haben sich ein Emmentaler\, ein Innerschweizer und ein B
 asel-Land-Bewohner zusammengetan. Sie spielen einen Mix aus traditioneller
  und moderner Schweizer Volksmusik\, wobei auch ausländischer Folk nicht z
 u kurz kommt. Alles wird mit einem Schuss Improvisation angereichert. Domi
 nierend ist das Schwyzerörgeli und der Kontrabass\, andere Instrumente wie
  Gitarre\, Cajon\, Langnauerli\, Halszither\, Trümpi oder Gesang werden ab
 er auch ab und zu eingesetzt.\n\nDen drei Musikanten ist es wichtig\, jede
 m Stück den eigenen Stil zu verleihen\, der sich von der heute gängigen 'Ö
 rgelimusig' unterscheiden soll. Mit Experimentier- und Spielfreude\, spezi
 ellen Eigenkompositionen sowie Einbezug stilfremder Elemente wird diese Ei
 genständigkeit noch zusätzlich gefördert.&nbsp\;\n\nDas Repertoire des Tri
 os ist schwindelerregend breit: es reicht von Eigenkompositionen über Balk
 an-Weisen\, rätoromanische Schimpfwörter\, eine Hommage an Jimi Hendrix’ l
 egendären Hit 'Hey Joe” bis zu alten Appenzeller Tänzen.\n\n«Tradition bed
 eutet nicht\, die Asche zu hüten\, sondern das Feuer weiterzugeben.»\n\nTh
 omas Aeschbacher (Schwyzerörgeli\, Gitarre\, Cajon)\, Simon Dettwiler (Sch
 wyzerörgeli\, Langnauerli)\, Jürg Nietlispach (Kontrabass\, Gitarre\, Hals
 zither\,Trümpi)\n\nhttps://www.pflanzplaetz.ch
DTSTART:20220123T183000Z
DTEND:20220123T183000Z
GEO:00;0
LOCATION:
ORGANIZER:
SEQUENCE:1
SUMMARY:Pflanzplätz – Wildwuchs
TRANSP:OPAQUE
URL:https://www.esse.bar/index.php/veranstaltungen/vergangene-veranstaltung
 en/1496-pflanzplaetz-wildwuchs/2022-01-23-19-30
END:VEVENT
END:VCALENDAR
