BEGIN:VCALENDAR
VERSION:2.0
PRODID:-//ESSE Musicbar Winterthur//NONSGML kigkonsult.se iCalcreator 2.41.92//
CALSCALE:GREGORIAN
METHOD:PUBLISH
UID:39366163-3336-4364-b163-303431656263
X-WR-CALNAME:iCagenda
X-WR-CALDESC:Event Management Extension for Joomla!
X-WR-RELCALID:3E26604A-50F4-4449-8B3E-E4F4932D05B5
X-WR-TIMEZONE:Europe/Zurich
BEGIN:VTIMEZONE
TZID:Europe/Zurich
TZUNTIL:20231029T010000Z
BEGIN:STANDARD
TZNAME:CET
DTSTART:20211031T030000
TZOFFSETFROM:+0200
TZOFFSETTO:+0100
RDATE:20221030T030000
END:STANDARD
BEGIN:DAYLIGHT
TZNAME:CEST
DTSTART:20210328T020000
TZOFFSETFROM:+0100
TZOFFSETTO:+0200
RDATE:20220327T020000
RDATE:20230326T020000
END:DAYLIGHT
END:VTIMEZONE
BEGIN:VEVENT
UID:36633139-6636-4639-b837-626564343838
DTSTAMP:20260420T020105Z
CATEGORIES:Jazz
CLASS:PUBLIC
DESCRIPTION;ALTREP="CID:<FFFF__=0ABBE548DFE235B58f9e8a93d@coffeebean.com>":
 Mit modernen Arrangements und einem fest in der Jazztradition verwurzelten
  Gestus schafft diese Band den Spagat und begeistert mit neuvertonter Lyri
 k mit Groove- und Stimmungswechseln.&nbsp\;\n\nUnd wo Cab Calloway von sei
 ner holden Mermaid schwärmt\, wird textlich erweitert und auf Aktuelles Be
 zug genommen\, Josephine Baker wird als mutige moderne Frau porträtiert. V
 on der Sängerin Dela Hüttner komponiert oder arrangiert und von den hervor
 ragenden Musikern mit intensiver Spielfreude interpretiert.&nbsp\;\n\nSoph
 isticated. Warmhearted. Groovy.\n\nDela Hüttner (voc\, comp\, arr)\, Adria
 n Mira (cl)\, Thomas Goralski (p)\, Mischa Frey (db)\, Samir Böhringer (dr
 )\n\nhttps://www.delahuettner.com
DTSTART:20220127T191500Z
DTEND:20220127T191500Z
GEO:00;0
LOCATION:
ORGANIZER:
SEQUENCE:1
SUMMARY:SwingThing – «Branches»
TRANSP:OPAQUE
URL:https://www.esse.bar/index.php/veranstaltungen/vergangene-veranstaltung
 en/1497-swingthing-branches/2022-01-27-20-15
END:VEVENT
END:VCALENDAR
