BEGIN:VCALENDAR
VERSION:2.0
PRODID:-//ESSE Musicbar Winterthur//NONSGML kigkonsult.se iCalcreator 2.41.92//
CALSCALE:GREGORIAN
METHOD:PUBLISH
UID:66393438-3462-4232-a333-306138346235
X-WR-CALNAME:iCagenda
X-WR-CALDESC:Event Management Extension for Joomla!
X-WR-RELCALID:3E26604A-50F4-4449-8B3E-E4F4932D05B5
X-WR-TIMEZONE:Europe/Zurich
BEGIN:VTIMEZONE
TZID:Europe/Zurich
TZUNTIL:20231029T010000Z
BEGIN:STANDARD
TZNAME:CET
DTSTART:20211031T030000
TZOFFSETFROM:+0200
TZOFFSETTO:+0100
RDATE:20221030T030000
END:STANDARD
BEGIN:DAYLIGHT
TZNAME:CEST
DTSTART:20210328T020000
TZOFFSETFROM:+0100
TZOFFSETTO:+0200
RDATE:20220327T020000
RDATE:20230326T020000
END:DAYLIGHT
END:VTIMEZONE
BEGIN:VEVENT
UID:30326130-3437-4136-a439-303630336163
DTSTAMP:20260420T021607Z
CATEGORIES:Blues
CLASS:PUBLIC
DESCRIPTION;ALTREP="CID:<FFFF__=0ABBE548DFE235B58f9e8a93d@coffeebean.com>":
 Mittlerweile müssen sie wohl niemandem mehr vorgestellt werden und sie geh
 ören zu den Stamm-Formationen im Programm der ESSE Musicbar: Jörg Danielse
 n und seine «Vienna Blues Association». Seit bald zwanzig Jahren schlägt d
 as Herz des Wiener Sängers und Gitarristen für die erdigste aller Musikric
 htungen: den Blues. \nInspiriert von diversen Blues-Stilrichtungen bildet 
 diese Band ein individuell gefärbtes Konglomerat\, geprägt von der einziga
 rtigen persönlichen Note der Musiker. Die Lust und Freude an der Musik ist
  unverkennbar. Auf dem Programm stehen Lieder von B.B. King\, Willie Dixon
 \, Freddy King und Albert Collins genauso wie Material aus eigener Feder. 
 \nMit im Gepäck ist Danielsens mittlerweile viertes Album namens «Guess Wh
 o's Got The Blues». Das mit dem Stillsitzen dürfte schwierig werden.\nJörg
  Danielsen (g\, voc)\, Walter Walterson (b)\, Christoph Karas (dr)\nhttps:
 //www.bluesassociation.com
DTSTART:20220113T191500Z
DTEND:20220113T191500Z
GEO:00;0
LOCATION:
ORGANIZER:
SEQUENCE:1
SUMMARY:Jörg Danielsen’s Vienna Blues Association
TRANSP:OPAQUE
URL:https://www.esse.bar/index.php/veranstaltungen/vergangene-veranstaltung
 en/1498-joerg-danielsen-s-vienna-blues-association/2022-01-13-20-15
END:VEVENT
END:VCALENDAR
