BEGIN:VCALENDAR
VERSION:2.0
PRODID:-//ESSE Musicbar Winterthur//NONSGML kigkonsult.se iCalcreator 2.41.92//
CALSCALE:GREGORIAN
METHOD:PUBLISH
UID:39666263-3664-4431-a462-363237636637
X-WR-CALNAME:iCagenda
X-WR-CALDESC:Event Management Extension for Joomla!
X-WR-RELCALID:3E26604A-50F4-4449-8B3E-E4F4932D05B5
X-WR-TIMEZONE:Europe/Zurich
BEGIN:VTIMEZONE
TZID:Europe/Zurich
TZUNTIL:20231029T010000Z
BEGIN:STANDARD
TZNAME:CET
DTSTART:20211031T030000
TZOFFSETFROM:+0200
TZOFFSETTO:+0100
RDATE:20221030T030000
END:STANDARD
BEGIN:DAYLIGHT
TZNAME:CEST
DTSTART:20210328T020000
TZOFFSETFROM:+0100
TZOFFSETTO:+0200
RDATE:20220327T020000
RDATE:20230326T020000
END:DAYLIGHT
END:VTIMEZONE
BEGIN:VEVENT
UID:32653961-6137-4236-b362-313231323539
DTSTAMP:20260420T020416Z
CATEGORIES:Jazz
CLASS:PUBLIC
DESCRIPTION;ALTREP="CID:<FFFF__=0ABBE548DFE235B58f9e8a93d@coffeebean.com>":
 Gerade erst war Gitarrist und Sänger Patrick Oriet zusammen mit seinen «Bl
 ues Neighbors» bei uns zu Gast\, jetzt doppelt er mit seiner zweiten bzw. 
 ersten Band «Pat &amp\; The Ricks» nach. Dies Formation spürt konsequent d
 en musikalischen Leidenschaften und Vorlieben ihrer Mitglieder nach.\nAus 
 einem vor elf Jahren\, für ein spontanes Geburtstagskonzert\, entstandenen
  Duo ist eine im besten Sinne eingespielte „Working-Band“ entstanden\, die
  dem Jazz\, Blues\, Funk und Soul Tribut zollt.\nStilmässige Offenheit und
  Neugier mischt sich bei diesem leidenschaftlichen Quartett mit einem bode
 nständigen Groove\, ungezügelter Spielfreude und einem dreistimmigen Backg
 round-Chor\, mit dem die Ricks ihren Frontmann harmonisch unterstützen.\nP
 atrick Oriet (g\, lead voc)\, Stefan Blum (p\, keyb\, voc)\, René Bernhard
 sgrütter (b\, voc)\, Michael Felder (dr\, voc)\nhttp://www.pat-ricks-band.
 ch
DTSTART:20220203T191500Z
DTEND:20220203T191500Z
GEO:00;0
LOCATION:
ORGANIZER:
SEQUENCE:1
SUMMARY:Pat & The Ricks
TRANSP:OPAQUE
URL:https://www.esse.bar/index.php/veranstaltungen/vergangene-veranstaltung
 en/1499-pat-the-ricks/2022-02-03-20-15
END:VEVENT
END:VCALENDAR
