BEGIN:VCALENDAR
VERSION:2.0
PRODID:-//ESSE Musicbar Winterthur//NONSGML kigkonsult.se iCalcreator 2.41.92//
CALSCALE:GREGORIAN
METHOD:PUBLISH
UID:37666461-3530-4031-a663-336532353662
X-WR-CALNAME:iCagenda
X-WR-CALDESC:Event Management Extension for Joomla!
X-WR-RELCALID:3E26604A-50F4-4449-8B3E-E4F4932D05B5
X-WR-TIMEZONE:Europe/Zurich
BEGIN:VTIMEZONE
TZID:Europe/Zurich
TZUNTIL:20231029T010000Z
BEGIN:STANDARD
TZNAME:CET
DTSTART:20211031T030000
TZOFFSETFROM:+0200
TZOFFSETTO:+0100
RDATE:20221030T030000
END:STANDARD
BEGIN:DAYLIGHT
TZNAME:CEST
DTSTART:20210328T020000
TZOFFSETFROM:+0100
TZOFFSETTO:+0200
RDATE:20220327T020000
RDATE:20230326T020000
END:DAYLIGHT
END:VTIMEZONE
BEGIN:VEVENT
UID:39633062-6138-4231-b661-383033326231
DTSTAMP:20260420T003915Z
CATEGORIES:Jazz
CLASS:PUBLIC
DESCRIPTION;ALTREP="CID:<FFFF__=0ABBE548DFE235B58f9e8a93d@coffeebean.com>":
 Ebenso ungewöhnlich wie der Name ist auch die Musik dieses jungen Münchner
  Quartetts um Alosha Uysal (Sopransaxophon)\, der zusammen mit Simon Harsc
 heidt (E-Gitarre)\, Stanislaw Sandronov (Bass) und Simon Japha (Schlagzeug
 ) eine ganz eigene Auffassung von Jazz demonstriert. Dabei schaffen sie es
 \, dass ihre Kompositionen trotz einer gewissen Komplexität nie anstrengen
 d klingen\, sondern sich auf die Schönheit der Musik konzentrieren — getra
 gen vom Dialog zwischen Sopransaxophon und E-Gitarre.\nDie Süddeutsche Zei
 tung beschreibt es so: „Musikalisch bewegen sich die Vier zwischen Pop und
  Klassik\, zwischen elektrischer und akustischer Musik\, zwischen melodisc
 h eingehenden Kompositionen und\, welch eine freudige Überraschung\, dem B
 lues. […] Und wie sie ihn gespielt haben\, den „Nähmaschinen Blues“\, das 
 fordert einfach nur Respekt. Übrigens: Der Bandname allein ist schon preis
 verdächtig!“\nAlosha Uysal (ss)\, Simon Harscheidt (g)\, Stanislaw Sandron
 ov (b)\, Simon Japha (dr)\nhttps://www.naehmaschinenquartett.com
DTSTART:20220217T191500Z
DTEND:20220217T191500Z
GEO:00;0
LOCATION:
ORGANIZER:
SEQUENCE:1
SUMMARY:Nähmaschinen Quartett
TRANSP:OPAQUE
URL:https://www.esse.bar/index.php/veranstaltungen/vergangene-veranstaltung
 en/1500-naehmaschinen-quartett/2022-02-17-20-15
END:VEVENT
END:VCALENDAR
