BEGIN:VCALENDAR
VERSION:2.0
PRODID:-//ESSE Musicbar Winterthur//NONSGML kigkonsult.se iCalcreator 2.41.92//
CALSCALE:GREGORIAN
METHOD:PUBLISH
UID:66353132-3939-4934-a334-383263306661
X-WR-CALNAME:iCagenda
X-WR-CALDESC:Event Management Extension for Joomla!
X-WR-RELCALID:3E26604A-50F4-4449-8B3E-E4F4932D05B5
X-WR-TIMEZONE:Europe/Zurich
BEGIN:VTIMEZONE
TZID:Europe/Zurich
TZUNTIL:20231029T010000Z
BEGIN:STANDARD
TZNAME:CET
DTSTART:20211031T030000
TZOFFSETFROM:+0200
TZOFFSETTO:+0100
RDATE:20221030T030000
END:STANDARD
BEGIN:DAYLIGHT
TZNAME:CEST
DTSTART:20210328T020000
TZOFFSETFROM:+0100
TZOFFSETTO:+0200
RDATE:20220327T020000
RDATE:20230326T020000
END:DAYLIGHT
END:VTIMEZONE
BEGIN:VEVENT
UID:32613130-3366-4630-b636-646637346431
DTSTAMP:20260420T004035Z
CATEGORIES:Jazz
CLASS:PUBLIC
DESCRIPTION;ALTREP="CID:<FFFF__=0ABBE548DFE235B58f9e8a93d@coffeebean.com>":
 Das Duo Helen Iten (Gesang) und Dario Bianchin (Gitarre) spielt seit über 
 20 Jahren zusammen. Bianchins einzigartiger Gitarrensound harmoniert und e
 rgänzt Itens ausdruckstarke Stimme auf eine kongeniale und humorvolle Art.
 \nDas eingespielte Duo bewegt sich mühelos durch das Repertoire des klassi
 schen Vocaljazz. Durch die langjährige gemeinsame Konzerttätigkeit entsteh
 t eine Leichtigkeit und Spielfreude beim Interplay von Stimme und Gitarre.
 \nHelen Iten (voc)\, Dario Bianchin (g)\nhttp://heleniten.ch
DTSTART:20220218T191500Z
DTEND:20220218T191500Z
GEO:00;0
LOCATION:
ORGANIZER:
SEQUENCE:1
SUMMARY:Helen Iten\, Dario Bianchin – «But Beautiful Jazz»
TRANSP:OPAQUE
URL:https://www.esse.bar/index.php/veranstaltungen/vergangene-veranstaltung
 en/1501-helen-iten-dario-bianchin-but-beautiful-jazz/2022-02-18-20-15
END:VEVENT
END:VCALENDAR
