BEGIN:VCALENDAR
VERSION:2.0
PRODID:-//ESSE Musicbar Winterthur//NONSGML kigkonsult.se iCalcreator 2.41.92//
CALSCALE:GREGORIAN
METHOD:PUBLISH
UID:31373131-3761-4561-a162-353262323164
X-WR-CALNAME:iCagenda
X-WR-CALDESC:Event Management Extension for Joomla!
X-WR-RELCALID:3E26604A-50F4-4449-8B3E-E4F4932D05B5
X-WR-TIMEZONE:Europe/Zurich
BEGIN:VTIMEZONE
TZID:Europe/Zurich
TZUNTIL:20231029T010000Z
BEGIN:STANDARD
TZNAME:CET
DTSTART:20211031T030000
TZOFFSETFROM:+0200
TZOFFSETTO:+0100
RDATE:20221030T030000
END:STANDARD
BEGIN:DAYLIGHT
TZNAME:CEST
DTSTART:20210328T020000
TZOFFSETFROM:+0100
TZOFFSETTO:+0200
RDATE:20220327T020000
RDATE:20230326T020000
END:DAYLIGHT
END:VTIMEZONE
BEGIN:VEVENT
UID:30613836-3938-4139-b135-643563333735
DTSTAMP:20260420T021021Z
CATEGORIES:SUISSE DIAGONALES JAZZ
CLASS:PUBLIC
DESCRIPTION;ALTREP="CID:<FFFF__=0ABBE548DFE235B58f9e8a93d@coffeebean.com>":
 Swiss Diagonales Jazz präsentiert:\nAlle zwei Jahre fördert der Verein Sui
 sse Diagonales Jazz SDJ den jungen Schweizer Jazz mit einer Konzertreihe q
 uer durchs Land. Im Januar und Februar 2022 spielen 10 aufstrebende Jazzfo
 rmationen aus allen Sprachregionen der Schweiz total 80 Konzerte bei 28 Ja
 zzveranstaltern in allen Winkeln des Landes. Drei Formationen präsentieren
  sich auch in der ESSE Musicbar. Als erstes\n\nMythen\nDas Wort «Mythen» b
 ezieht sich manchmal auf Erzählungen\, welche in die Geschichte eingehen\,
  manchmal auf ein emblematisches Berg-Paar in Schwyz. Hat das 2018 aus den
  Wahl-Baslern Marius Rivier und Daniel Roelli gebildete Duo mit der Wahl s
 eines Namens den übertriebenen Ehrgeiz verraten\, wie ihr Vorbild aus Kalk
 stein zu einem Muss in der Schweizer Landschaft zu werden oder ihre kinder
 liedartigen Stücke alle Zeiten überdauern zu lassen?\nNein\, natürlich nic
 ht. Und doch hat die Art und Weise\, wie die beiden jungen Musiker aus der
  Westschweiz komponieren\, etwas Geologisches und Mythologisches an sich. 
 Sie lassen kleine rhythmische und melodische Partikel frei erodieren und s
 edimentieren\, Themen – oder Mythen – die durch unendliche Variationen nic
 ht weniger erkennbar werden.\nSuisse Diagonales Jazz bietet dem Publikum a
 us der ganzen Schweiz die Gelegenheit\, ein Duo zu entdecken\, das bisher 
 nur selten öffentlich aufgetreten ist. Ihre Musik ist ebenso ziseliert wie
  spontan\, und ihre erste EP\, die im April 2020 im Rahmen der digitalen A
 usgabe des Cully Jazz Festivals veröffentlicht wurde\, bietet einen beeind
 ruckenden Einblick\, ganz leise und nüchtern.\nDaniel Roelli (p)\, Marius 
 Rivier (dr)\nhttps://mythen.bandcamp.comhttps://diagonales.ch/bands/mythen
 /
DTSTART:20220128T191500Z
DTEND:20220128T191500Z
GEO:00;0
LOCATION:
ORGANIZER:
SEQUENCE:1
SUMMARY:Mythen
TRANSP:OPAQUE
URL:https://www.esse.bar/index.php/veranstaltungen/vergangene-veranstaltung
 en/1502-mythen/2022-01-28-20-15
END:VEVENT
END:VCALENDAR
