BEGIN:VCALENDAR
VERSION:2.0
PRODID:-//ESSE Musicbar Winterthur//NONSGML kigkonsult.se iCalcreator 2.41.92//
CALSCALE:GREGORIAN
METHOD:PUBLISH
UID:30366562-6437-4238-b733-636530616665
X-WR-CALNAME:iCagenda
X-WR-CALDESC:Event Management Extension for Joomla!
X-WR-RELCALID:3E26604A-50F4-4449-8B3E-E4F4932D05B5
X-WR-TIMEZONE:Europe/Zurich
BEGIN:VTIMEZONE
TZID:Europe/Zurich
TZUNTIL:20231029T010000Z
BEGIN:STANDARD
TZNAME:CET
DTSTART:20211031T030000
TZOFFSETFROM:+0200
TZOFFSETTO:+0100
RDATE:20221030T030000
END:STANDARD
BEGIN:DAYLIGHT
TZNAME:CEST
DTSTART:20210328T020000
TZOFFSETFROM:+0100
TZOFFSETTO:+0200
RDATE:20220327T020000
RDATE:20230326T020000
END:DAYLIGHT
END:VTIMEZONE
BEGIN:VEVENT
UID:61616530-6535-4130-a334-613830323437
DTSTAMP:20260420T020157Z
CATEGORIES:Folk & More
CLASS:PUBLIC
DESCRIPTION;ALTREP="CID:<FFFF__=0ABBE548DFE235B58f9e8a93d@coffeebean.com>":
 Seit 2012 ist die Band mit Namen «Bendorim» auf den Bühnen unterwegs\, Nac
 hfolgerin von «Les Mélotrices»\, beide von Dela Hüttner gegründet. Das Qui
 ntett interpretiert rare und weniger rare 'lieder in yiddish' und Neukompo
 sitionen. Ihre Musik ist eine Mischung aus Klezmer\, Worldmusic\, Folk und
  Swing.\nDas aktuelle Programm «Khaloymes» (Schöne Träume) bringt verträum
 te Vertonungen der amerikanischen Lyrikerin Aliza Greenblatt und des Zürch
 ers Rafaël Newman\, Fragendes von Chava Alberstein\, Swingiges der Barry S
 isters\, mit einem Zwischenstopp in Tel Aviv\, und nicht zuletzt erklingen
  Klezmerstücke und Neukompositionen im Stile des „vocal klezmer“ in wunder
 bar temperamentvollen ungeraden Taktarten. Musik\, die berührt und vibrier
 t.\nWarmherzig\, mit Witz\, Anekdoten und Zwischentexte machen das Program
 m gut verständlich.\nDela Hüttner (voc)\, Yael Roth (voc\, vl)\, Adrian Mi
 ra (cl)\, Jürg Luchsinger (acc)\, Mischa Frey (db)\nhttps://www.bendorim.c
 hhttps://www.delahuettner.com
DTSTART:20220206T183000Z
DTEND:20220206T183000Z
GEO:00;0
LOCATION:
ORGANIZER:
SEQUENCE:1
SUMMARY:Bendorim – «Khaloymes»
TRANSP:OPAQUE
URL:https://www.esse.bar/index.php/veranstaltungen/vergangene-veranstaltung
 en/1503-bendorim/2022-02-06-19-30
END:VEVENT
END:VCALENDAR
