BEGIN:VCALENDAR
VERSION:2.0
PRODID:-//ESSE Musicbar Winterthur//NONSGML kigkonsult.se iCalcreator 2.41.92//
CALSCALE:GREGORIAN
METHOD:PUBLISH
UID:33373036-6437-4362-b535-366534303030
X-WR-CALNAME:iCagenda
X-WR-CALDESC:Event Management Extension for Joomla!
X-WR-RELCALID:3E26604A-50F4-4449-8B3E-E4F4932D05B5
X-WR-TIMEZONE:Europe/Zurich
BEGIN:VTIMEZONE
TZID:Europe/Zurich
TZUNTIL:20231029T010000Z
BEGIN:STANDARD
TZNAME:CET
DTSTART:20211031T030000
TZOFFSETFROM:+0200
TZOFFSETTO:+0100
RDATE:20221030T030000
END:STANDARD
BEGIN:DAYLIGHT
TZNAME:CEST
DTSTART:20210328T020000
TZOFFSETFROM:+0100
TZOFFSETTO:+0200
RDATE:20220327T020000
RDATE:20230326T020000
END:DAYLIGHT
END:VTIMEZONE
BEGIN:VEVENT
UID:31353062-3138-4432-b138-616265636566
DTSTAMP:20260420T021624Z
CATEGORIES:Jazz
CLASS:PUBLIC
DESCRIPTION;ALTREP="CID:<FFFF__=0ABBE548DFE235B58f9e8a93d@coffeebean.com>":
 Vintage ist cool und Jazz war es schon immer! Wieso also nicht Vintage Jaz
 z? Genau dafür steht die fünfköpfige Band «Soulessence». Sie versetzt uns 
 zurück in die Zeiten lässiger Sonnenbrillen\, protziger Cabrios und echten
  eingerissenen Jeans.\nIhr Repertoire ist ein Mix aus Swing\, Blues und So
 ul\, dazu noch etwas Pop und das Ganze in einer Leichtigkeit gespielt\, di
 e einfach mitreisst und begeistert. Frontfrau Daniela Link überzeugt mit e
 iner grossen Präsenz und ihrer warmen\, rauen Stimme. Dazu kommen ein groo
 vig swingender Gesamtsound und virtuose Improvisationen von Piano und Saxo
 phon. Genau diese Vielfalt und Leidenschaft der fünf Musiker haben bereits
  ein breites Publikum angesprochen und in seinen Bann gezogen.\nDaniela Li
 nk (voc)\, Rainer Schüpbach (s)\, Fabian Jochro (p)\, Thomas Brühwiler (b)
 \, Samuel 'the solution' Altmann (dr)\nwww.soulessence.ch
DTSTART:20220114T191500Z
DTEND:20220114T191500Z
GEO:00;0
LOCATION:
ORGANIZER:
SEQUENCE:1
SUMMARY:Soulessence – Vintage Jazz & Soul
TRANSP:OPAQUE
URL:https://www.esse.bar/index.php/veranstaltungen/vergangene-veranstaltung
 en/1504-soulessence-vintage-jazz-soul/2022-01-14-20-15
END:VEVENT
END:VCALENDAR
