BEGIN:VCALENDAR
VERSION:2.0
PRODID:-//ESSE Musicbar Winterthur//NONSGML kigkonsult.se iCalcreator 2.41.92//
CALSCALE:GREGORIAN
METHOD:PUBLISH
UID:31353538-6665-4134-a138-323164313566
X-WR-CALNAME:iCagenda
X-WR-CALDESC:Event Management Extension for Joomla!
X-WR-RELCALID:3E26604A-50F4-4449-8B3E-E4F4932D05B5
X-WR-TIMEZONE:Europe/Zurich
BEGIN:VTIMEZONE
TZID:Europe/Zurich
TZUNTIL:20231029T010000Z
BEGIN:STANDARD
TZNAME:CET
DTSTART:20211031T030000
TZOFFSETFROM:+0200
TZOFFSETTO:+0100
RDATE:20221030T030000
END:STANDARD
BEGIN:DAYLIGHT
TZNAME:CEST
DTSTART:20210328T020000
TZOFFSETFROM:+0100
TZOFFSETTO:+0200
RDATE:20220327T020000
RDATE:20230326T020000
END:DAYLIGHT
END:VTIMEZONE
BEGIN:VEVENT
UID:66343534-6533-4339-b435-343764323930
DTSTAMP:20260420T021704Z
CATEGORIES:SUISSE DIAGONALES JAZZ
CLASS:PUBLIC
DESCRIPTION;ALTREP="CID:<FFFF__=0ABBE548DFE235B58f9e8a93d@coffeebean.com>":
 Swiss Diagonales Jazz präsentiert:\nAlle zwei Jahre fördert der Verein Sui
 sse Diagonales Jazz SDJ den jungen Schweizer Jazz mit einer Konzertreihe q
 uer durchs Land. Im Januar und Februar 2022 spielen 10 aufstrebende Jazzfo
 rmationen aus allen Sprachregionen der Schweiz total 80 Konzerte bei 28 Ja
 zzveranstaltern in allen Winkeln des Landes. Drei Formationen präsentieren
  sich auch in der ESSE Musicbar. Die zweite heisst:\n\nLukas Traxel – One 
 Eyed Daruma\nMit «One Eyed Daruma» präsentiert der Bassist Lukas Traxel zu
 m ersten Mal seine eigenen Kompositionen. Dabei steht der japanische Glück
 sbringer Daruma stellvertretend für die Songs aus Traxels Feder. Sie solle
 n einäugig sein wie eine Utopie oder ein (noch) unerfüllter Wunsch. Erst d
 ie unberechenbare Interaktion im Trio vervollständigt das musikalische Ant
 litz des Daruma und verleiht ihm sein zweites Auge.\nDafür hat Lukas Traxe
 l sich mit Otis Sandsjö\, dem eigenständigen und unverkennbaren schwedisch
 en Saxofonisten der jungen europäischen Jazzszene und dem Berliner Schlagz
 euger Moritz Baumgärtner zusammengetan\, der längst nicht nur als rhythmis
 ches Rückgrat\, sondern als ein weiterer klangprägender Instrumentalist fu
 ngiert. Dabei funktioniert die Band als Kollektiv\, in dem jeder der drei 
 Ausnahmemusiker das Konzert in ungeahnte Bahnen lenken kann. Gemeinsam ent
 steht ein organischer Klangkörper\, welcher mal energetisch und virtuos\, 
 mal verträumt und melancholisch daherkommt.\nOtis Sandsjö (sax)\, Lukas Tr
 axel (b)\, Moritz Baumgärtner (dr)\nhttps://diagonales.ch/bands/lukas-trax
 el-one-eyed-daruma/
DTSTART:20220210T191500Z
DTEND:20220210T191500Z
GEO:00;0
LOCATION:
ORGANIZER:
SEQUENCE:1
SUMMARY:Lukas Traxel – One Eyed Daruma
TRANSP:OPAQUE
URL:https://www.esse.bar/index.php/veranstaltungen/vergangene-veranstaltung
 en/1505-lukas-traxel-one-eyed-daruma/2022-02-10-20-15
END:VEVENT
END:VCALENDAR
