BEGIN:VCALENDAR
VERSION:2.0
PRODID:-//ESSE Musicbar Winterthur//NONSGML kigkonsult.se iCalcreator 2.41.92//
CALSCALE:GREGORIAN
METHOD:PUBLISH
UID:36336332-6139-4533-a237-613032663864
X-WR-CALNAME:iCagenda
X-WR-CALDESC:Event Management Extension for Joomla!
X-WR-RELCALID:3E26604A-50F4-4449-8B3E-E4F4932D05B5
X-WR-TIMEZONE:Europe/Zurich
BEGIN:VTIMEZONE
TZID:Europe/Zurich
TZUNTIL:20231029T010000Z
BEGIN:STANDARD
TZNAME:CET
DTSTART:20211031T030000
TZOFFSETFROM:+0200
TZOFFSETTO:+0100
RDATE:20221030T030000
END:STANDARD
BEGIN:DAYLIGHT
TZNAME:CEST
DTSTART:20210328T020000
TZOFFSETFROM:+0100
TZOFFSETTO:+0200
RDATE:20220327T020000
RDATE:20230326T020000
END:DAYLIGHT
END:VTIMEZONE
BEGIN:VEVENT
UID:62386230-3231-4631-a232-306530326163
DTSTAMP:20260420T020249Z
CATEGORIES:SUISSE DIAGONALES JAZZ
CLASS:PUBLIC
DESCRIPTION;ALTREP="CID:<FFFF__=0ABBE548DFE235B58f9e8a93d@coffeebean.com>":
 Swiss Diagonales Jazz präsentiert:\nAlle zwei Jahre fördert der Verein Sui
 sse Diagonales Jazz SDJ den jungen Schweizer Jazz mit einer Konzertreihe q
 uer durchs Land. Im Januar und Februar 2022 spielen 10 aufstrebende Jazzfo
 rmationen aus allen Sprachregionen der Schweiz total 80 Konzerte bei 28 Ja
 zzveranstaltern in allen Winkeln des Landes. Drei Formationen präsentieren
  sich auch in der ESSE Musicbar. Als drittes die Formation\n\nMohs\nDieses
  junge Quartett ist eine vielseitige Gruppe\, die ihre Inspiration aus dem
  zeitgenössischen Jazz und neuen musikalischen Trends wie elektronischer M
 usik und Hip-Hop bezieht.\nAus der Komplizenschaft dieser Musiker entsteht
  eine bezaubernde und konkrete Musik\, die viel Raum für Improvisation läs
 st. Unterstützt von einer soliden Rhythmusgruppe mit fein abgestuftem Groo
 ve unterstreichen die «Contre-Chants» der Gitarre zart die von der Trompet
 e skizzierten traumhaften Melodien. Die Energie und Musikalität seiner Mit
 glieder ermöglichen es dem Quartett\, eine frische und spontane Musik und 
 einen tiefen und organischen Klang zu formen und mit dem Publikum eine fri
 sche und spontane Musik zu teilen.\nDiese vier Improvisatoren mit einer mi
 nimalistischen Ästhetik\, die sich sowohl auf Shai Maestro oder Bon Iver a
 ls auch auf Philip Glass bezieht\, kreieren einen organischen und luftigen
  Klang\, indem sie elektronische und akustische Sounds mischen\, gefiltert
  durch das Prisma der Improvisation. Aus dieser geschmackvollen Mischung e
 ntsteht eine unerwartete und einzigartige Musik.\nZacharie Ksyk (tp\, efx)
 \, Erwan Valazza (g\, elec)\, Gaspard Colin (b\, efx)\, Nathan Vandenbulck
 e (dr\, elec)\nhttps://erwanvalazza.com/mohshttps://diagonales.ch/bands/mo
 hs/
DTSTART:20220211T191500Z
DTEND:20220211T191500Z
GEO:00;0
LOCATION:
ORGANIZER:
SEQUENCE:1
SUMMARY:Mohs
TRANSP:OPAQUE
URL:https://www.esse.bar/index.php/veranstaltungen/vergangene-veranstaltung
 en/1506-mohs/2022-02-11-20-15
END:VEVENT
END:VCALENDAR
