BEGIN:VCALENDAR
VERSION:2.0
PRODID:-//ESSE Musicbar Winterthur//NONSGML kigkonsult.se iCalcreator 2.41.92//
CALSCALE:GREGORIAN
METHOD:PUBLISH
UID:31653364-3465-4366-b435-633236656264
X-WR-CALNAME:iCagenda
X-WR-CALDESC:Event Management Extension for Joomla!
X-WR-RELCALID:3E26604A-50F4-4449-8B3E-E4F4932D05B5
X-WR-TIMEZONE:Europe/Zurich
BEGIN:VTIMEZONE
TZID:Europe/Zurich
TZUNTIL:20231029T010000Z
BEGIN:STANDARD
TZNAME:CET
DTSTART:20211031T030000
TZOFFSETFROM:+0200
TZOFFSETTO:+0100
RDATE:20221030T030000
END:STANDARD
BEGIN:DAYLIGHT
TZNAME:CEST
DTSTART:20210328T020000
TZOFFSETFROM:+0100
TZOFFSETTO:+0200
RDATE:20220327T020000
RDATE:20230326T020000
END:DAYLIGHT
END:VTIMEZONE
BEGIN:VEVENT
UID:30363066-3665-4833-b765-363663653638
DTSTAMP:20260420T003547Z
CATEGORIES:Jazz
CLASS:PUBLIC
DESCRIPTION;ALTREP="CID:<FFFF__=0ABBE548DFE235B58f9e8a93d@coffeebean.com>":
 «Monadelisa» kreiert und gestaltet ihre Musik auf eigene Art\, eine Musik 
 die sich sowohl an das World- wie auch an das Jazz-Genre anlehnt. Die Musi
 k\, erschienen auf ihrem Album «Near Africa»\, dient hauptsächlich als Vor
 lage des aktuellen Konzertprogramms.\n«Near Africa» bezieht sich nicht auf
  den musikalischen Inhalt\, sondern auf die geografische Lage der Kanaren\
 , wo die Schweizerin seit Jahren lebt. Der Sound von «Monadelisa» lässt Bi
 lder von Weiten und Sehnsucht nach der Ferne entstehen\, ihre Musik strahl
 t sowohl pure Lebensfreude wie auch eine gewisse Melancholie aus\, welcher
  sich weder ihre drei Mitmusiker noch das Publikum entziehen können.\nIhre
  subtilen\, gekonnten Gitarrenklänge sind eine ideale Ergänzung zu ihrer n
 atürlichen\, registerreichen und ausdrucksstarken Stimme – ein musikalisch
 er Genuss\, den man sich nicht entgehen lassen sollte.\nMonadelisa (voc\, 
 g)\, Thomas Silvestri (p)\, Beat Bossart (tp\, flh)\, Andi Hinz (perc)\nht
 tp://monadelisa.com
DTSTART:20220325T191500Z
DTEND:20220325T191500Z
GEO:00;0
LOCATION:
ORGANIZER:
SEQUENCE:1
SUMMARY:Monadelisa
TRANSP:OPAQUE
URL:https://www.esse.bar/index.php/veranstaltungen/vergangene-veranstaltung
 en/1508-monadelisa/2022-03-25-20-15
END:VEVENT
END:VCALENDAR
