BEGIN:VCALENDAR
VERSION:2.0
PRODID:-//ESSE Musicbar Winterthur//NONSGML kigkonsult.se iCalcreator 2.41.92//
CALSCALE:GREGORIAN
METHOD:PUBLISH
UID:64366136-3365-4561-b834-323432623865
X-WR-CALNAME:iCagenda
X-WR-CALDESC:Event Management Extension for Joomla!
X-WR-RELCALID:3E26604A-50F4-4449-8B3E-E4F4932D05B5
X-WR-TIMEZONE:Europe/Zurich
BEGIN:VTIMEZONE
TZID:Europe/Zurich
TZUNTIL:20240331T010000Z
BEGIN:STANDARD
TZNAME:CET
DTSTART:20211031T030000
TZOFFSETFROM:+0200
TZOFFSETTO:+0100
RDATE:20221030T030000
RDATE:20231029T030000
END:STANDARD
BEGIN:DAYLIGHT
TZNAME:CEST
DTSTART:20220327T020000
TZOFFSETFROM:+0100
TZOFFSETTO:+0200
RDATE:20230326T020000
END:DAYLIGHT
END:VTIMEZONE
BEGIN:VEVENT
UID:63653131-3564-4436-b663-353938396562
DTSTAMP:20260419T230053Z
CATEGORIES:Jazz
CLASS:PUBLIC
DESCRIPTION;ALTREP="CID:<FFFF__=0ABBE548DFE235B58f9e8a93d@coffeebean.com>":
 Reibungswärme gärt am längsten: Für «BBQ»\, sein Stuttgarter Quartett\, ha
 t sich Bastian Brugger drei Mitmusiker ausgesucht\, die ganz unterschiedli
 che Einflüsse und Spielroutinen mitbringen.\nAuf der Bühne fusionieren die
  Geschmäcker und Gedanken\, die Ideale und Ideen zu einem knisternden Ganz
 en\, einer unbedingt eigenen Ästhetik: Zwischen Punk und Jazz\, Funk und f
 reier Improvisation\, zwischen amorphen Grooves und kristallklaren Lines\,
  holen die Kompositionen der Bandmitglieder den Geist der Gemeinschaft ins
  musikalische Jetzt.\nBastian Brugger (s\, fl)\; Hannes Stollsteimer (p\, 
 keyb)\, Lukas Hatzis (b)\, Lucas Klein (dr)\nhttps://www.bastianbrugger.de
 /bands/bbq/
DTSTART:20220603T181500Z
DTEND:20220603T181500Z
GEO:00;0
LOCATION:
ORGANIZER:
SEQUENCE:1
SUMMARY:Bastian Brugger Quartett – BBQ
TRANSP:OPAQUE
URL:https://www.esse.bar/index.php/veranstaltungen/vergangene-veranstaltung
 en/1510-bastian-brugger-quartett-bbq/2022-06-03-20-15
END:VEVENT
END:VCALENDAR
