BEGIN:VCALENDAR
VERSION:2.0
PRODID:-//ESSE Musicbar Winterthur//NONSGML kigkonsult.se iCalcreator 2.41.92//
CALSCALE:GREGORIAN
METHOD:PUBLISH
UID:64396631-6130-4365-b238-623734633037
X-WR-CALNAME:iCagenda
X-WR-CALDESC:Event Management Extension for Joomla!
X-WR-RELCALID:3E26604A-50F4-4449-8B3E-E4F4932D05B5
X-WR-TIMEZONE:Europe/Zurich
BEGIN:VTIMEZONE
TZID:Europe/Zurich
TZUNTIL:20231029T010000Z
BEGIN:STANDARD
TZNAME:CET
DTSTART:20211031T030000
TZOFFSETFROM:+0200
TZOFFSETTO:+0100
RDATE:20221030T030000
END:STANDARD
BEGIN:DAYLIGHT
TZNAME:CEST
DTSTART:20210328T020000
TZOFFSETFROM:+0100
TZOFFSETTO:+0200
RDATE:20220327T020000
RDATE:20230326T020000
END:DAYLIGHT
END:VTIMEZONE
BEGIN:VEVENT
UID:35633332-3037-4561-b262-613038376533
DTSTAMP:20260420T021317Z
CATEGORIES:BARBETRIEB
CLASS:PUBLIC
DESCRIPTION;ALTREP="CID:<FFFF__=0ABBE548DFE235B58f9e8a93d@coffeebean.com>":
 Es findet heute leider kein Live-Konzert statt. Die ESSE Musicbar ist trot
 zdem geöffnet. Unser Kombüsen-Tom ist motiviert und bereitet seine beliebt
 en Bar-Snacks mit viel Liebe und Können zu. Prosecco ist kaltgestellt und 
 die Zapfanlage sprudelt. \nWir freuen uns auf unsere Freund:innen und Gäst
 :innen und -aussen. Tom&amp\;Tom
DTSTART:20220116T160000Z
DTEND:20220116T160000Z
GEO:00;0
LOCATION:
ORGANIZER:
SEQUENCE:1
SUMMARY:Gute Laune an der Bar
TRANSP:OPAQUE
URL:https://www.esse.bar/index.php/veranstaltungen/vergangene-veranstaltung
 en/1511-barbetieb-2/2022-01-16-17-00
END:VEVENT
END:VCALENDAR
