BEGIN:VCALENDAR
VERSION:2.0
PRODID:-//ESSE Musicbar Winterthur//NONSGML kigkonsult.se iCalcreator 2.41.92//
CALSCALE:GREGORIAN
METHOD:PUBLISH
UID:62643937-3639-4538-b832-336139366638
X-WR-CALNAME:iCagenda
X-WR-CALDESC:Event Management Extension for Joomla!
X-WR-RELCALID:3E26604A-50F4-4449-8B3E-E4F4932D05B5
X-WR-TIMEZONE:Europe/Zurich
BEGIN:VTIMEZONE
TZID:Europe/Zurich
TZUNTIL:20231029T010000Z
BEGIN:STANDARD
TZNAME:CET
DTSTART:20211031T030000
TZOFFSETFROM:+0200
TZOFFSETTO:+0100
RDATE:20221030T030000
END:STANDARD
BEGIN:DAYLIGHT
TZNAME:CEST
DTSTART:20210328T020000
TZOFFSETFROM:+0100
TZOFFSETTO:+0200
RDATE:20220327T020000
RDATE:20230326T020000
END:DAYLIGHT
END:VTIMEZONE
BEGIN:VEVENT
UID:39653964-3935-4634-a463-623234656130
DTSTAMP:20260420T021817Z
CATEGORIES:Blues
CLASS:PUBLIC
DESCRIPTION;ALTREP="CID:<FFFF__=0ABBE548DFE235B58f9e8a93d@coffeebean.com>":
 Genuine Blues [genuine = authentisch\, echt]… Kurt Bislin und Tino Forlin 
 gehen weit zurück zu den Wurzeln des Blues\, bar aller Anklänge an all die
  heute modernen Ausprägungen dieses Genres. In ihrem Verständnis hat der B
 lues wenig mit drei Akkorden\, schnellen Soli und dunklen Sonnenbrillen zu
  tun... vielmehr aber mit der Seele und dem Rhythmus dieser Musik.\nIm Rep
 ertoire des Duos finden sich Songs aus dem reichen Fundus des Blues der le
 tzten hundert Jahre\, eigene Kompositionen und auch mal die eine oder ande
 re Southern-Soul-Trouvaille. Ein Augenmerk liegt dabei auf dem Blues aus L
 ouisiana und New Orleans.\nKurt Bislin spielte bereits einige Zeit mit der
  Idee – solo oder im Duo – persönlicher\, näher an seine musikalischen Roo
 ts zu gehen und die Tiefen seines geliebten Blues ganz ohne Netz und doppe
 lten Boden auszuloten. In Tino Forlin fand er einen Mitmusiker und notaben
 e Weggefährten aus alten Tagen\, der bereit war\, sich auf das Projekt ein
 zulassen. In der Zweier-Besetzung «Bislin &amp\; Forlin - The Genuine Blue
 s Duo» kommt die Musik ganz nahe zum Publikum\, der Rahmen ist intim\, die
  Lautstärke moderat.\nKurt Bislin (voc\, g)\, Tino Forlin (keyb)\nhttps://
 www.burrobeat.com/bislin-forlin/
DTSTART:20220130T183000Z
DTEND:20220130T183000Z
GEO:00;0
LOCATION:
ORGANIZER:
SEQUENCE:1
SUMMARY:Bislin & Forlin – The Genuine Blues Duo
TRANSP:OPAQUE
URL:https://www.esse.bar/index.php/veranstaltungen/vergangene-veranstaltung
 en/1512-bislin-forlin-the-genuine-blues-duo/2022-01-30-19-30
END:VEVENT
END:VCALENDAR
