BEGIN:VCALENDAR
VERSION:2.0
PRODID:-//ESSE Musicbar Winterthur//NONSGML kigkonsult.se iCalcreator 2.41.92//
CALSCALE:GREGORIAN
METHOD:PUBLISH
UID:62653135-3330-4236-b135-636334336262
X-WR-CALNAME:iCagenda
X-WR-CALDESC:Event Management Extension for Joomla!
X-WR-RELCALID:3E26604A-50F4-4449-8B3E-E4F4932D05B5
X-WR-TIMEZONE:Europe/Zurich
BEGIN:VTIMEZONE
TZID:Europe/Zurich
TZUNTIL:20231029T010000Z
BEGIN:STANDARD
TZNAME:CET
DTSTART:20211031T030000
TZOFFSETFROM:+0200
TZOFFSETTO:+0100
RDATE:20221030T030000
END:STANDARD
BEGIN:DAYLIGHT
TZNAME:CEST
DTSTART:20210328T020000
TZOFFSETFROM:+0100
TZOFFSETTO:+0200
RDATE:20220327T020000
RDATE:20230326T020000
END:DAYLIGHT
END:VTIMEZONE
BEGIN:VEVENT
UID:61383530-3963-4764-a230-613662646634
DTSTAMP:20260420T004035Z
CATEGORIES:Jazz
CLASS:PUBLIC
DESCRIPTION;ALTREP="CID:<FFFF__=0ABBE548DFE235B58f9e8a93d@coffeebean.com>":
 Woodville 3 spielt Jazz. Mit Inspiration\, Freude und Leidenschaft. Bei un
 s z.B. vor über vier Jahren an der Rudolfstrasse 24. Die drei Musiker habe
 n grossen Respekt für die Traditionen und Werte dieser Musik. Sie spielen 
 «Straight No Chaser» mit Kanone\, werden kurz darauf von einem «Cherokee» 
 auf weiter Prärie verfolgt\, stehlen aus Not «Take Five» von Dave Brubeck 
 bis John Dowland ihnen «Come Again» zuruft\, um sie zu besänftigen. Kaum d
 en Klangwelten des Barock entkommen\, entführen sie Mani Matters «Heidi» n
 ach Südamerika und gehen mit seinem «Eskimo» in New York eislaufen.\nUnd d
 ies alles\, bevor sie überhaupt angefangen haben\, ihre eigenen Stücke zu 
 spielen\, welche das\, was sie von den Meistern gelernt haben\, mit einem 
 Haufen eigener Ideen kombinieren - geschrieben\, um dich umzuhauen!\nNach 
 wie vor aktuell: Das Doppelalbum «A-Live» - es enthält auch Aufnahmen aus 
 der alten ESSE \;-). Woodville 3\, unerhört guter Jazz.\nWill Wood (p)\, H
 annes Fankhauser (db)\, Timmy Leiser (dr)\nhttps://woodville3.com
DTSTART:20220303T191500Z
DTEND:20220303T191500Z
GEO:00;0
LOCATION:
ORGANIZER:
SEQUENCE:1
SUMMARY:Woodville 3 – Standards verjazzt \;-)
TRANSP:OPAQUE
URL:https://www.esse.bar/index.php/veranstaltungen/vergangene-veranstaltung
 en/1513-woodville-3-standards-verjazzt/2022-03-03-20-15
END:VEVENT
END:VCALENDAR
