BEGIN:VCALENDAR
VERSION:2.0
PRODID:-//ESSE Musicbar Winterthur//NONSGML kigkonsult.se iCalcreator 2.41.92//
CALSCALE:GREGORIAN
METHOD:PUBLISH
UID:38623330-3430-4038-b463-323164653034
X-WR-CALNAME:iCagenda
X-WR-CALDESC:Event Management Extension for Joomla!
X-WR-RELCALID:3E26604A-50F4-4449-8B3E-E4F4932D05B5
X-WR-TIMEZONE:Europe/Zurich
BEGIN:VTIMEZONE
TZID:Europe/Zurich
TZUNTIL:20240331T010000Z
BEGIN:STANDARD
TZNAME:CET
DTSTART:20211031T030000
TZOFFSETFROM:+0200
TZOFFSETTO:+0100
RDATE:20221030T030000
RDATE:20231029T030000
END:STANDARD
BEGIN:DAYLIGHT
TZNAME:CEST
DTSTART:20220327T020000
TZOFFSETFROM:+0100
TZOFFSETTO:+0200
RDATE:20230326T020000
END:DAYLIGHT
END:VTIMEZONE
BEGIN:VEVENT
UID:39336364-3237-4566-b262-316164663331
DTSTAMP:20260419T231228Z
CATEGORIES:Jazz
CLASS:PUBLIC
DESCRIPTION;ALTREP="CID:<FFFF__=0ABBE548DFE235B58f9e8a93d@coffeebean.com>":
 Seit 2008 präsentiert und lebt das «Adrian Frey Trio» Trio seine eigene Va
 riante von zeitgenössischem Jazzpiano-Triosound. So befand sich damals auf
  ihrer im April 2015 erschienenen CD «Microcosmos» ein über 750 Jahre alte
 s englisches Lied\, ein Klavierstück von Bela Bartok\, ein brasilianischer
  Song von Caetano Veloso oder ein Chanson aus der Zeit der französischen R
 enaissance\, die bis heute hin und wieder im Live-Repertoire auftauchen. G
 emeinsam mit ihren Favoriten des Great American Songbooks und Kompositione
 n des Pianisten. Zu hören gibt es aber auch Titel aus dem brandneuen Album
  «The Nearness Of Dreams».\nMit den Kompositionen des Pianisten wird eine 
 starke poetische Vision entwickelt\, voll von phantasievollem Interplay\, 
 starker Vitalität\, mit abwechslungsreichen Grooves und einem sicheren Sin
 n für Swing. Ein französischer Kritiker schrieb: 'Der Pianist Adrian Frey 
 weiss\, wie man ein Klavier zum Singen bringen und damit Geschichten erzäh
 len kann.' (Jazz Hot\, France). Dazu kommen Tony Renolds dynamische Groove
 s und sein melodisches Spiel\, perfekt ergänzt durch Partrick Sommers warm
 en Kontrabassklang und seinen aussergewöhnlichen Sinn für Swing und Time.
 \nZusammen erzeugen die drei einen Triosound\, bei dem das Zusammenspiel i
 m Zentrum steht\; in Verbindung mit der Jazzpiano-Trio-Tradition\, aber vo
 n heute und jetzt.\nAdrian Frey (Klavier)\, Patrick Sommer (db)\, Tony Ren
 old (dr)\nwww.adrian-frey.comhttps://www.patricksommer.nethttp://www.tonyr
 enold.ch
DTSTART:20220429T181500Z
DTEND:20220429T181500Z
GEO:00;0
LOCATION:
ORGANIZER:
SEQUENCE:1
SUMMARY:Adrian Frey Trio – «The Nearness Of Dreams»
TRANSP:OPAQUE
URL:https://www.esse.bar/index.php/veranstaltungen/vergangene-veranstaltung
 en/1514-adrian-frey-trio-the-nearness-of-dreams/2022-04-29-20-15
END:VEVENT
END:VCALENDAR
